BEGIN:VCALENDAR
VERSION:2.0
PRODID:-//Cam Viaggi | Agenzia Viaggi e Tour Operator - ECPv6.15.11//NONSGML v1.0//EN
CALSCALE:GREGORIAN
METHOD:PUBLISH
X-ORIGINAL-URL:https://devel.camviaggi.com
X-WR-CALDESC:Eventi per Cam Viaggi | Agenzia Viaggi e Tour Operator
REFRESH-INTERVAL;VALUE=DURATION:PT1H
X-Robots-Tag:noindex
X-PUBLISHED-TTL:PT1H
BEGIN:VTIMEZONE
TZID:Europe/Rome
BEGIN:DAYLIGHT
TZOFFSETFROM:+0100
TZOFFSETTO:+0200
TZNAME:CEST
DTSTART:20240331T010000
END:DAYLIGHT
BEGIN:STANDARD
TZOFFSETFROM:+0200
TZOFFSETTO:+0100
TZNAME:CET
DTSTART:20241027T010000
END:STANDARD
BEGIN:DAYLIGHT
TZOFFSETFROM:+0100
TZOFFSETTO:+0200
TZNAME:CEST
DTSTART:20250330T010000
END:DAYLIGHT
BEGIN:STANDARD
TZOFFSETFROM:+0200
TZOFFSETTO:+0100
TZNAME:CET
DTSTART:20251026T010000
END:STANDARD
BEGIN:DAYLIGHT
TZOFFSETFROM:+0100
TZOFFSETTO:+0200
TZNAME:CEST
DTSTART:20260329T010000
END:DAYLIGHT
BEGIN:STANDARD
TZOFFSETFROM:+0200
TZOFFSETTO:+0100
TZNAME:CET
DTSTART:20261025T010000
END:STANDARD
END:VTIMEZONE
BEGIN:VEVENT
DTSTART;TZID=Europe/Rome:20251017T000000
DTEND;TZID=Europe/Rome:20251024T000000
DTSTAMP:20260420T044217
CREATED:20250910T140038Z
LAST-MODIFIED:20250910T140038Z
UID:10003348-1760659200-1761264000@devel.camviaggi.com
SUMMARY:MAROCCO
DESCRIPTION:Confermato: Posti disponibili\n\n\n    MAROCCO\n\n\n     \nLE CITTÀ BLU \nE IMPERIALI \n\n\n\n    \n        SCARICA IL PROGRAMMA DEL VIAGGIO\n    \n\n\n\n\n            \n        \n\n            Data/e del viaggio \n            Dal 17 al 24 ottobre 2025\n        \n\n            Quota di partecipazione\n             \n1.686€ \n\n        \n\n            Orari e punti di partenza\n             \n\npark Penny Market strada Battaglia – Mezzavia di Due Carrare\, ore: 15:10\npark Lidl v. Vittorio Veneto ang. v. C. Colombo – Monselice\, ore: 14:50\np.zza f.lli Cervi davanti hotel Cristallo – Rovigo\, ore: 14:20\npark Il Faro area distributore carburanti – Giacciano con Baruchella\, ore: 13:50\npark Ikea sotto insegna Ikea lato Pittarosso – Padova\, ore: 15:40\naeroporto M. Polo area partenze 1° piano – Venezia\, ore: 16:20\npark IperTosano area Comet – Legnago\, ore: 13:30\npark casello Vicenza Est – Vicenza\, ore: 15:20\npark casello Soave|S. Bonifacio – Soave|S. Bonifacio\, ore: 14:50\n\n\n        \n\n            Programma del viaggio\n             \n1° GIORNO: CASABLANCA  \nRitrovo dei partecipanti in aeroporto e disbrigo delle operazioni d’imbarco. Partiamo con il volo di linea diretto delle 18.25 per Casablanca. L’arrivo è previsto alle 20.50. Dopo l’incontro con la guida locale\, ci trasferiamo in bus in hotel in città a Casablanca per il pernottamento. \n  \n2° GIORNO: CASABLANCA\, RABAT E TANGERI (340 km) Dopo la colazione in hotel\, visitiamo Casablanca\, la capitale economica del Marocco\, scoprendo la spettacolare moschea di Hassan II\, la più grande del Marocco e la terza al mondo dopo la Masjid al-Haram della Mecca e la moschea del Profeta di Medina\, costruita su un promontorio che si affaccia sull’oceano Atlantico. Al termine\, ci spostiamo a Rabat\, fermandoci in corso di escursione per il pranzo in ristorante. Nella capitale di stato seguiamo un itinerario che tocca i giardini degli Oudaïa\, la kasbah\, la moschea Hassan tower\, con le rovine di 200 colonne\, e il mausoleo di Mohamed V. Al termine\, ci spostiamo a Tangeri\, cittadina sullo stretto di Gibilterra a pochi chilometri dall’Andalusia\, costruita tra due Europa e Africa dove si incontrano il mar Mediterraneo e l’oceano Atlantico; visitiamo Cap Spartel\, il punto esatto in cui le due masse d’acqua si incrociano\, percorrendo una strada panoramica\, prima di scoprire la medina di Tangeri. Al termine\, guadagniamo il nostro hotel per la cena e il pernottamento. \n  \n3°GIORNO: CHEFCHAOUEN\, VOLUBILIS\, MEKNÈS E FÈS (295 km) \n Dopo la colazione in hotel\, ci muoviamo di buon mattino verso Chefchaouen\, una delle città più belle del massiccio montuoso del Rif\, definita la ‘perla blu del Marocco’ e conosciuta per la sua Medina di vicoli ombrosi\, le case bianche con le porte turchesi\, le finestre in ferro battuto e i tetti ricoperti di tegole. Dopo il pranzo in ristorante\, raggiungiamo il sito romano di Volubilis\, patrimonio dell’umanità ai piedi del monte Zerhoun\, e Meknès\, la più recente delle quattro città imperiali (Rabat\, Meknès\, Fès e Marrakech)\, che deve il suo nome alla tribù berbera Miknasa. Spettacolari la porta Bab Mansour\, l’intero quartiere ebraico e il museo Dar Jamai\, che scopriamo prima di spostarci a Fès\, per la cena e il pernottamento in hotel. \n  \n4° GIORNO: FÈS Dopo la colazione in hotel\, dedichiamo l’intera giornata alla visita di Fès\, la capitale religiosa del Marocco. Il nostro itinerario si snoda tra la Medina medievale con le sue madrase Al-Attarine e Bou Anania\, il museo Nejjarine\, il mausoleo di Moulay Idriss e la moschea Karaouine. Fès è la più antica delle città imperiali\, la più attraente del mondo islamico per i monumenti e i mercati\, e deve il suo prestigio alla prevalenza politica secolare e all’antica università\, culla della cultura e dell’arte del Maghreb. Dopo il pranzo in ristorante visitiamo Fès Jdid (la medina nuova)\, i vicoli labirintici e le concerie. Una passeggiata nel quartiere ebraico prima di rientrare in hotel\, per la cena e il pernottamento. \n  \n5° GIORNO: MARRAKECH (530 km) \n Dopo la colazione in hotel\, partiamo di buon mattino verso Marrakech\, attraversando la cittadina di Ifrane\, considerata la ‘piccola Svizzera del Marocco’ eletta la città più pulita del mondo dalla MBC. Il pranzo in ristorante è in corso di escursione mentre raggiungiamo il nostro hotel a Marrakech per la cena e il pernottamento. \n  \n6° GIORNO: MARRAKECH Dopo la prima colazione in hotel\, dedichiamo l’intera giornata alla visita di Marrakech\, la più importante città imperiale nella storia del Marocco. Marrakech comprende una vecchia cittadina fortificata brulicante di venditori con le loro bancarelle\, con circa 18 souk che espongono merci artigianali di ogni tipo tra cui i tradizionali tappeti di fattura berbera. Meravigliosi il palazzo Bahia\, il minareto Koutoubia e la piazza centrale\, dove si svolge la vita sociale della città. Visitiamo un’erboristeria prima del rientro in hotel per il pranzo e di proseguire nel pomeriggio con la visita alla celebre Djemaa El Fna\, luogo di mercato\, passando per Dar El Bacha\, il souk Semmarine e il centro storico. Le mura rosse della città\, erette per volere di Ali ibn Yusuf\, e i vari edifici costruiti in questo periodo in pietra arenaria\, hanno conferito a Marrakech il soprannome di ‘città rossa’. Alla sera ci spostiamo in un ristorante tipico della città per un cena accompagnata da musica folkloristica e infine rientriamo in hotel per il pernottamento. \n  \n7° GIORNO: MARRAKECH E CASABLANCA (240 km) \n Dopo la colazione in hotel\, dedichiamo la mattinata alla visita dei giardini Majorelle\, importante complesso di giardini botanici progettato dall’artista francese Jacques Majorelle durante il periodo coloniale. Lo stilista francese Yves Saint Laurent scopre il giardino nel 1966\, durante il suo primo soggiorno a Marrakech. Ne rimane incantato e lo acquista\, decidendo poi di vivere nella vecchia casa di Jacques Majorelle\, ribattezzata Villa Oasis. Le ceneri di Yves Saint Laurent sono state disperse nel roseto di Villa Oasis e un memoriale in suo onore è stato eretto nel giardino. Importante visitare il museo Yves Saint Laurent\, prima del pranzo in ristorante con una suggestiva vista su Jamaa el Fna. Nel pomeriggio\, partiamo in bus in direzione Casablanca. Arrivati in città\, ci trasferiamo in hotel per la cena e il pernottamento. \n  \n8° GIORNO: CASABLANCA \n Dopo la colazione in hotel\, ci attendono la visita panoramica del quartiere Habous e l’esterno del palazzo Reale\, oltre a una passeggiata sulla Corniche\, il lungomare di Casablanca. In tempo utile\, ci trasferiamo in aeroporto e decolliamo con il volo di linea diretto AT938 delle 13.15 per l’Italia. L’arrivo è previsto a Venezia alle 17.25. \n\n        \n\n            Appunti di Viaggio\n             \nDA NON DIMENTICARE. Il passaporto\, lo smartphone per le foto e per contattare l’accompagnatore in caso di necessità\, la power-bank per non rimanere senza carica. \n  \nCOSA PORTARE. Un solo bagaglio da stiva di 23 kg e a mano di 10 kg. \n  \nCOSA INDOSSARE. Abbigliamento informale\, scarpe all’insegna della comodità. \n  \nTELEFONO. Per chiamare un cellulare italiano mentre si è in Marocco\, anteporre ‘+39’ o ‘0039’ al numero. In Marocco non vige il regolamento ‘Roaming like at home’\, quindi gli operatori di rete mobile adottano tariffe diverse da quelle applicate in Italia. \n  \nMONETA. Il Marocco non fa parte dell’UE e la moneta adottata è il dirham: 1 dirham corrisponde a 0\,10€. \n  \nOROLOGIO. Marocco e Italia adottano la stessa ora. \n  \nPRESE ELETTRICHE. Le prese elettriche che si utilizzano in Marocco sono di tipo C (con due pin rotondi) ed E (con due pin rotondi e un foro per il pin di messa a terra). Sempre un’accortezza l’adattatore universale. \n  \nMANGIARE. I punti di ristoro possono dedicare la massima attenzione alle nostre necessità dietetiche\, comprese quelle dei bambini o degli ospiti con allergie e|o intolleranze. È però fondamentale segnalare in agenzia\, al momento dell’iscrizione\, eventuali esigenze legate alla dieta alimentare per ricercare un’adeguata soluzione\, che comunque non può essere garantita dal fornitore; consigliamo dunque di cautelarsi autonomamente e preventivamente per disporre di integrazioni alimentari. I pasti si intendono a menu fisso o\, se previsto\, a buffet per tutto il gruppo e non sono contemplati variazioni e|o menu à la carte. Tavoli e posti a sedere in ristorante non sono riservabili. \n  \nCAMERE. Non si garantisce l’occupazione di camere comunicanti\, attigue\, allo stesso piano o a livello stradale. La sistemazione in camera doppia non sottintende la sistemazione con letto matrimoniale\, bensì una camera per due persone. Il letto matrimoniale\, anche se segnalato come preferenza\, non può mai essere garantito. La camera tripla prevede un letto aggiunto nella camera doppia: si tratta pertanto di una soluzione più adatta ai bambini\, che può risultare scomoda agli adulti. In ogni caso il terzo letto non comporta alcuna riduzione di prezzo. \n  \nADEGUAMENTO VALUTARIO E CARBURANTE. Eventuali adeguamenti valutari o incrementi del carburante sono comunicati\, come da regolamento\, entro 21 gg. prima della data di partenza. Il pacchetto dei servizi è acquistato in euro. \n  \nSCUDERIE REALI DI MEKNES. Le scuderie reali di Meknes sono attualmente chiuse per restauro; in sostituzione a questa visita è inserita la visita con ingresso al museo Dar Jamai con la sua raccolta di manufatti e oggetti d’arte provenienti da diverse regioni del Marocco. \n\n        \n \n\n\n            Cosa è compreso nella quota\n             \nVoli di linea diretti Royal Air Maroc; 1 bagaglio in stiva 23 kg e 1 bagaglio a mano 10 kg per passeggero; trasporti interni in bus; visite\, escursioni e ingressi come da programma\, sistemazione in camere doppie con servizi in hotel 4|5 stelle (categoria locale); pensione completa con pasti come da programma dalla colazione del 2° alla colazione dell’ultimo giorno; bevande incluse 0\,30 l di acqua minerale a pasto\, auricolari|radioguide\, accompagnatore|guida locale\, assicurazione medico|bagaglio. \n\n        \n\n            Cosa non è compreso nella quota\n             \nTrasferimento da|per aeroporto di Venezia\, assicurazione annullamento\, facchinaggio\, mance (obbligatorie 40€ a persona da consegnare in loco alla guida)\, bevande extra e quanto non indicato alla voce ‘la quota comprende’. \n  \n\n        \n\n            Supplementi facoltativi\n             \nCamera singola 380€; eventuale assicurazione annullamento per malattie e infortuni improvvisi 135€ per persona in camera doppia e 165€ in singola (da versare congiuntamente all’acconto). Utilizzo navetta da|per aeroporto di partenza e arrivo (servizio sotteso a un numero minimo di partecipanti): 39€ da Padova\, 49€ da Mezzavia di Due Carrare\, Monselice\, Rovigo o Vicenza\, 59€ da Giacciano con Baruchella\, Legnago o Soave-San Bonifacio. \n\n        \n\n            Modalità di iscrizione al viaggio\n             \nL’iscrizione comporta il versamento contestuale di un acconto non rimborsabile di 505€ e la presentazione del passaporto. Il saldo è richiesto entro 30 gg. dalla partenza. \n\n        \n\n            Modalità di pagamento del viaggio\n             \nLa quota di partecipazione può essere corrisposta entro la data indicata attraverso il sito camviaggi.com\, con carta di credito a distanza (CNP)\, con bonifico bancario Iban: IT43Y0890462562032015008364 intestato a ‘CAM s.r.l.’\, con versamento in c|c postale 001014519068 intestato a ‘CAM s.r.l.’. In alternativa\, con carta di credito\, bancomat\, a|b o contante c|o le agenzie CAM. \n\n        \n\n            Regolamento di Viaggio\n             \nLa Direzione si riserva di apportare al programma eventuali modifiche per un più opportuno svolgimento del viaggio. L’iscrizione comporta la presa visione e l’accettazione di programma\, regolamento e norme vigenti. Organizzazione tecnica: C.A.M. VIAGGI di CAM s.r.l. Licenza 921 del 17.3.08 rilasciata dalla Provincia di Padova. Travel designer Alessia Barnes (alessia.barnes@camviaggi.com). \n\n        \n\n            Recapiti CAM per le prenotazioni\n             \nWeb camviaggi.com E-mail gruppi@camviaggi.com Sms|WhatsApp|Telegram 3480536012 Telefono 0429770993 \n\n        \n\n            Recapiti accompagnatore\n             \nUn assistente aeroportuale esclusivo è presente a Venezia per le operazioni di check-in|imbarco (il recapito viene comunicato nei documenti di viaggio). L’incontro con l’accompagnatore è fissato all’aeroporto d’arrivo. \n\n        \n\n            Assicurazioni\n             \nMedico-bagaglio\, fondo di garanzia A|217.5482|1|2022|R.
URL:https://devel.camviaggi.com/event/marocco-7/
ATTACH;FMTTYPE=image/jpeg:https://devel.camviaggi.com/wp-content/uploads/2025/01/iStock-482215660-1.jpg
END:VEVENT
BEGIN:VEVENT
DTSTART;TZID=Europe/Rome:20251023T000000
DTEND;TZID=Europe/Rome:20251031T000000
DTSTAMP:20260420T044217
CREATED:20250910T140036Z
LAST-MODIFIED:20250910T140036Z
UID:10003343-1761177600-1761868800@devel.camviaggi.com
SUMMARY:UZBEKISTAN
DESCRIPTION:Confermato: Posti disponibili\n\n\n    UZBEKISTAN\n\n\n     \nSAMARCANDA E \nLA VIA DELLA SETA \n\n\n\n    \n        SCARICA IL PROGRAMMA DEL VIAGGIO\n    \n\n\n\n\n            \n        \n\n            Data/e del viaggio \n            Dal 23 al 31 ottobre 2025\n        \n\n            Quota di partecipazione\n             \n2.305€ \n\n        \n\n            Orari e punti di partenza\n             \n\npark Penny Market strada Battaglia – Mezzavia di Due Carrare\, ore: 16:45\npark Lidl v. Vittorio Veneto ang. v. C. Colombo – Monselice\, ore: 16:20\np.zza f.lli Cervi davanti hotel Cristallo – Rovigo\, ore: 15:50\npark Il Faro area distributore carburanti – Giacciano con Baruchella\, ore: 15:20\npark Ikea sotto insegna Ikea lato Pittarosso – Padova\, ore: 17:15\naeroporto M. Polo area partenze 1° piano – Venezia\, ore: 17:55\npark IperTosano area Comet – Legnago\, ore: 15:00\npark casello Vicenza Est – Vicenza\, ore: 16:50\npark casello Soave|S. Bonifacio – Soave|S. Bonifacio\, ore: 16:20\n\n\n        \n\n            Programma del viaggio\n             \n1° GIORNO: ISTANBUL \nIncontro con i partecipanti in aeroporto e disbrigo delle operazioni d’imbarco. Partenza con volo di linea Turkish Airlines alle 19.55. Arrivo a Istanbul alle 23.35 (ora locale). \n  \n2° GIORNO: URGENČ E KHIVA (35 km) \nContinuazione con volo per Urgenč alle 1.15 (ora locale). Pernottamento a bordo. Arrivo al mattino previsto alle 7.10 (ora locale) e disbrigo delle formalità doganali. Incontro con la guida locale (parlante italiano) e transfer in hotel. Dopo la colazione\, raggiungiamo Khiva e dedichiamo l’intera giornata alla scoperta della più antica città sulla Via della Seta. Visitiamo le madrase Islam Khoja e Mohammed Amin Khan\, il mausoleo del patrono Pahlavon Mahmud e la moschea di Juma\, unica per le sue 213 colonne di legno in stile arabo. Entriamo quindi in una panetteria locale per assistere alla preparazione artigianale del non\, il pane tipico uzbeko e\, dopo il pranzo in ristorante\, proseguiamo la nostra visita scoprendo la Casa di Pietra\, la madrasa Allah Kuli Khan\, un bazaar e un caravanserraglio. Partecipiamo infine a uno spettacolo esclusivo folk uzbeko\, animato da balli e musiche locali. Ceniamo in ristorante ed eccoci in hotel\, per il pernottamento. \n  \n3° GIORNO: KHIVA E BUKHARA (470 km)  \nDopo la colazione in hotel\, ci muoviamo in bus verso Bukhara\, per camminare sulla storia dell’Asia Centrale attraverso il deserto rosso di Kyzylkum\, terra di battaglie storiche\, di carovanieri e conquistatori come Gengis Khan\, Tamerlano e Alessandro Magno. D’obbligo una sosta per scattare una foto indimenticabile in un luogo strategico sulle rive dell’Amudarya\, il fiume più lungo dell’Asia Centrale\, la cui sorgente sgorga tra le vette del Pamir. Dopo il pranzo in un ristorante sulla via del deserto\, raggiungiamo in serata la splendida città-mercato di Bukhara\, un luogo magico\, dimora del padre e dello zio di Marco Polo. Arriviamo infine al nostro hotel e ci fermiamo per il relax\, la cena e il pernottamento. \n  \n4° GIORNO: BUKHARA \nDopo la colazione in hotel\, dedichiamo l’intera giornata alla scoperta di Bukhara. Visitiamo il complesso Poi-Kalon\, con la moschea Kalom Jummi\, il minareto e la madrasa Mir-I-Arab. Scopriamo i tre bazaar coperti\, Taqi Zargaron\, Taqi Telpak Furushon e Taqi Sarrafon\, la madrasa Kukeldash\, una delle più grandi scuole islamiche dell’Asia\, il complesso Labi Hauz e la moschea Magok-I-Atori\, dove si possono ammirare nello stesso spazio i resti di un monastero buddhista\, di un tempio e di una moschea. Straordinari la fortezza Ark\, una città nella città antica quanto Bukhara\, la moschea Bolo Hauz e il mausoleo Isma’il I Samanide. Durante la giornata\, ci fermiamo in un ristorante per il pranzo e in una location tipica per assaggiare la bevanda nazionale uzbeka: il tè alle erbe. Dedichiamo invece la serata a entrare in stretto contatto con le popolazioni locali\, cenando nella casa di una famiglia uzbeka e assistendo alla preparazione del plov\, un piatto a base di riso. Dopo la cena\, prendiamo parte a uno spettacolo folkloristico nel cortile di una storica madrasa\, prima di rientrare in hotel per il pernottamento. \n 5° GIORNO: SHAHRISABZ E SAMARCANDA (390 km)  \nDopo la colazione\, ci spostiamo in bus verso la mitica Samarcanda\, fermandoci lungo il percorso per la visita di Shahrisabz\, città di Tamerlano il Grande. Visitiamo le rovine del palazzo Bianco e del mausoleo di Jehangir\, oltre alla moschea di Kok Gumbaz. Dopo il pranzo in ristorante\, proseguiamo lungo il nostro itinerario e raggiungiamo l’hotel di Samarcanda. Ceniamo in un ristorante in città prima di un’escursione serale in piazza Registan\, un incanto di maioliche completamente illuminate che lasciano un ricordo indelebile nel cuore di ogni viaggiatore. Torniamo infine all’hotel per il pernottamento. \n  \n6° GIORNO: SAMARCANDA \nColazione in hotel e dedichiamo la giornata alla visita della città: la piazza Registan\, la moschea Khanym e il mercato Siab. Ci attende un pranzo in ristorante locale con un corso di cucina Master Class per la preparazione dei manti\, grandi ravioli cotti al vapore. Proseguiamo così le visite scoprendo Shakhi Zindal\, la necropoli dei regnanti e dei nobili di Samarcanda\, e il Gur Emir (la tomba dell’emiro)\, un mausoleo dedicato a Tamerlano il Grande e ai suoi discendenti. Dopo una cena tipica in uno dei più suggestivi ristoranti della città con vista panoramica mozzafiato su piazza Registan\, rientriamo in hotel per il pernottamento. \n  \n7° GIORNO: SAMARCANDA E TAŠKENT (265 km in treno) \nDopo la colazione in hotel\, proseguiamo le visite di Samarcanda con l’osservatorio Ulug Bek\, i resti di un grande astrolabio per l’osservazione della posizione delle stelle\, la fabbrica della carta di seta Koni Ghil e infine il museo con le rovine di Afrasiyab. Per il pranzo ci fermiamo in ristorante e\, nel pomeriggio\, ci trasferiamo alla stazione ferroviaria per salire a bordo del treno Afrosiyob diretto alla capitale Taškent\, splendida occasione per ammirare dal finestrino le terre della via della Seta. All’arrivo\, raggiungiamo l’hotel per accomodarci nelle camere riservate. Ceniamo in un ristorante in città prima del pernottamento in hotel. \n  \n8° GIORNO: TAŠKENT  \nColazione in hotel e intera giornata dedicata alla visita della Taškent moderna raccolta intorno alle piazze Amir Timur e dell’Indipendenza. Grazie a un esclusivo ingresso privato\, scopriamo l’interno del meraviglioso teatro d’opera Ali-Shir Nava’i\, completato nel 1947 da prigionieri giapponesi. Incrociamo tra le vie del centro il palazzo della dinastia Romanov\, costruito per il Principe Nikolai in stile Art Nouveau\, e visitiamo la suggestiva metropolitana\, segno evidente lasciato dalla dominazione dell’ex Unione Sovietica e che ricorda la metropolitana di Mosca. Dopo il pranzo in ristorante\, entriamo nella città vecchia: la madrasa Kukeldash\, il complesso di culto Khast Imam\, la madrasa santa\, la moschea Tillya Sheykh e il mausoleo Kafal Shashi\, tomba del poeta e filosofo dell’Islam\, la madrasa Barak Khan e il brulicante bazaar Chorsu. Proseguimento con la visita al museo delle Arti Applicate. In serata\, transfer in città per la cena in un ristorante tipico e\, dopocena\, passeggiata in centro per ammirare lo spettacolo di luci delle fontane danzanti. Rientro in hotel e pernottamento. \n  \n9° GIORNO: TAŠKENT E ISTANBUL \nDopo la colazione in hotel\, ci spostiamo in aeroporto per disbrigare le operazioni d’imbarco. Partenza con volo di linea Turkish Airlines alle 9.35 (ora locale) per Istanbul. L’arrivo è previsto alle 13.00 (ora locale) e continuiamo per Venezia con un volo delle 17.20 (ora locale). L’atterraggio è previsto a Venezia alle 18.55. \n\n        \n\n            Appunti di Viaggio\n             \nDA NON DIMENTICARE. Lo smartphone per le foto e per contattare l’accompagnatore in caso di necessità\, la power-bank per non rimanere senza carica. Per entrare in Uzbekistan è necessario il passaporto con almeno tre mesi di validità residua. Per i cittadini di 45 paesi\, tra cui l’Italia\, non è necessario il visto d’ingresso per un soggiorno massimo di 30 gg.  In ogni caso\, il passaporto deve avere almeno una pagina libera per l’apposizione dei timbri di entrata e uscita. \nCOSA PORTARE. Un solo bagaglio da stiva di 30 kg e a mano di 8 kg. \nCOSA INDOSSARE. Abbigliamento informale\, scarpe all’insegna della comodità. \nTELEFONO. Per chiamare un cellulare italiano mentre si è in Uzbekistan\, anteporre ‘+39’ o ‘0039’ al numero. In Uzbekistan non vige il regolamento europeo ‘Roaming like at home’\, quindi gli operatori di rete mobile adottano tariffe diverse da quelle applicate in Italia. Una delle opzioni più comuni per telefonare è acquistare una SIM dati locale. Un’altra opzione è utilizzare il wi-fi gratuito disponibile in hotel\, ristoranti\, caffè e centri commerciali. \nMONETA. In Uzbekistan la moneta adottata è il sum; 13.500 sum equivalgono a circa 1€.  \nOROLOGIO. In itinere tra Italia e Uzbekistan spostare avanti le lancette di 4 ore. \nPRESE ELETTRICHE. La presa uzbeka è a due poli cilindrici (tipo C) o tre lamellari (tipo I). Sempre utile l’adattatore universale. \nMANGIARE. I punti di ristoro possono dedicare la massima attenzione alle nostre necessità dietetiche\, comprese quelle dei bambini o degli ospiti con allergie e|o intolleranze. È però fondamentale segnalare in agenzia\, al momento dell’iscrizione\, eventuali esigenze legate alla dieta alimentare per ricercare un’adeguata soluzione\, che comunque non può essere garantita dal fornitore; consigliamo dunque di cautelarsi autonomamente e preventivamente per disporre di integrazioni alimentari. I pasti si intendono a menu fisso o\, se previsto\, a buffet per tutto il gruppo e non sono contemplati variazioni e|o menu à la carte. Tavoli e posti a sedere specifici in ristorante non sono riservabili. \nCAMERE. Non si garantisce l’occupazione di camere comunicanti\, attigue\, allo stesso piano o a livello stradale. La sistemazione in camera doppia non sottintende la sistemazione con letto matrimoniale\, bensì una camera per due persone. Il letto matrimoniale\, anche se segnalato come preferenza\, non può mai essere garantito. La camera tripla prevede un letto aggiunto nella camera doppia: si tratta pertanto di una soluzione più adatta ai bambini\, che può risultare scomoda agli adulti. In ogni caso il terzo letto non comporta alcuna riduzione di prezzo. \nADEGUAMENTO VALUTARIO E CARBURANTE. Eventuali adeguamenti valutari o incrementi del carburante sono comunicati\, come da regolamento\, entro 21 gg. prima della data di partenza. Il pacchetto dei servizi è acquistato in dollari americani al cambio 1$=0\,95€. \n\n        \n \n\n\n            Cosa è compreso nella quota\n             \nTrasposto con voli di linea Turskish Airlines da|per Venezia; tasse aeroportuali; 1 bagaglio in stiva 30 kg + 1 bagaglio a mano 8 kg; trasporti interni in bus e treno (a Samarcanda); visite\, escursioni e ingressi come indicato in programma; 7 pernottamenti in hotel 4*|3* stelle (classificazione locale) con servizi privati in camera; tasse di soggiorno; pensione completa con pasti come da programma dalla prima colazione del giorno d’arrivo alla prima colazione dell’ultimo giorno (menu turistici); acqua minerale da 0\,33 l inclusa ai pasti; esclusivo folk show in harem a Khiva; cena tipica con preparazione del plov e spettacolo folk uzbeko a Bukhara; cena locale uzbeka in ristorante con vista panoramica a Samarcanda; preparazione del non in una panetteria artigianale a Khiva; degustazione bevanda nazionale uzbeka a Bukhara; giro serale a Samarcanda in piazza Registan; master class di cucina uzbeka e preparazione dei manti; escursione privata al teatro dell’opera Alisher Navoi di Taškent; auricolari|radioguide incluse durante tutto il tour; guida|accompagnatore locale esperta per assistenza durante tutto il tour; assistente esclusivo in aeroporto a Venezia per le operazioni di check-in|imbarco; assicurazione medico e bagaglio. \n\n        \n\n            Cosa non è compreso nella quota\n             \nTrasferimento da|per aeroporto di Venezia\, assicurazione annullamento\, facchinaggio\, mance (obbligatorie 45€ a persona da consegnare in loco alla guida)\, bevande extra e quanto non indicato alla voce ‘la quota comprende’.  \n  \n\n        \n\n            Supplementi facoltativi\n             \nCamera singola 335€; eventuale assicurazione annullamento per malattie e infortuni improvvisi 185€ per persona in camera doppia e 212€ in singola (da versare congiuntamente all’acconto). Utilizzo navetta da|per aeroporto di partenza e arrivo (servizio sotteso a un numero minimo di partecipanti): 39€ da Padova\, 49€ da Mezzavia di Due Carrare\, Monselice\, Rovigo o Vicenza\, 59€ da Giacciano con Baruchella\, Legnago o Soave-San Bonifacio. \n\n        \n\n            Modalità di iscrizione al viaggio\n             \nL’iscrizione comporta il versamento contestuale di un acconto non rimborsabile di 700€ e la presentazione del passaporto. Il saldo è richiesto entro 30 gg. dalla partenza. \n\n        \n\n            Modalità di pagamento del viaggio\n             \nLa quota di partecipazione può essere corrisposta entro la data indicata attraverso il sito camviaggi.com\, con carta di credito a distanza (CNP)\, con bonifico bancario Iban: IT43Y0890462562032015008364 intestato a ‘CAM s.r.l.’\, con versamento in c|c postale 001014519068 intestato a ‘CAM s.r.l.’. In alternativa\, con carta di credito\, bancomat\, a|b o contante c|o le agenzie CAM. \n\n        \n\n            Regolamento di Viaggio\n             \nLa Direzione si riserva di apportare al programma eventuali modifiche per un più opportuno svolgimento del viaggio. L’iscrizione comporta la presa visione e l’accettazione di programma\, regolamento e norme vigenti. Organizzazione tecnica: C.A.M. VIAGGI di CAM s.r.l. Licenza 921 del 17.3.08 rilasciata dalla Provincia di Padova. Travel designer Alessia Barnes (alessia.barnes@camviaggi.com). \n\n        \n\n            Recapiti CAM per le prenotazioni\n             \nWeb camviaggi.com E-mail gruppi@camviaggi.com Sms|WhatsApp|Telegram 3480536012 Telefono 0429770993 \n\n        \n\n            Recapiti accompagnatore\n             \nUn assistente aeroportuale esclusivo è presente a Venezia per le operazioni di check-in|imbarco (il recapito viene comunicato nei documenti di viaggio). L’incontro con l’accompagnatore è fissato all’aeroporto d’arrivo. \n\n        \n\n            Assicurazioni\n             \nMedico-bagaglio\, fondo di garanzia A|217.5482|1|2022|R.
URL:https://devel.camviaggi.com/event/uzbekistan-18/
ATTACH;FMTTYPE=image/jpeg:https://devel.camviaggi.com/wp-content/uploads/2025/01/uzbekistan-3.jpg
END:VEVENT
END:VCALENDAR