BEGIN:VCALENDAR
VERSION:2.0
PRODID:-//Cam Viaggi | Agenzia Viaggi e Tour Operator - ECPv6.15.11//NONSGML v1.0//EN
CALSCALE:GREGORIAN
METHOD:PUBLISH
X-ORIGINAL-URL:https://devel.camviaggi.com
X-WR-CALDESC:Eventi per Cam Viaggi | Agenzia Viaggi e Tour Operator
REFRESH-INTERVAL;VALUE=DURATION:PT1H
X-Robots-Tag:noindex
X-PUBLISHED-TTL:PT1H
BEGIN:VTIMEZONE
TZID:Europe/Rome
BEGIN:DAYLIGHT
TZOFFSETFROM:+0100
TZOFFSETTO:+0200
TZNAME:CEST
DTSTART:20240331T010000
END:DAYLIGHT
BEGIN:STANDARD
TZOFFSETFROM:+0200
TZOFFSETTO:+0100
TZNAME:CET
DTSTART:20241027T010000
END:STANDARD
BEGIN:DAYLIGHT
TZOFFSETFROM:+0100
TZOFFSETTO:+0200
TZNAME:CEST
DTSTART:20250330T010000
END:DAYLIGHT
BEGIN:STANDARD
TZOFFSETFROM:+0200
TZOFFSETTO:+0100
TZNAME:CET
DTSTART:20251026T010000
END:STANDARD
BEGIN:DAYLIGHT
TZOFFSETFROM:+0100
TZOFFSETTO:+0200
TZNAME:CEST
DTSTART:20260329T010000
END:DAYLIGHT
BEGIN:STANDARD
TZOFFSETFROM:+0200
TZOFFSETTO:+0100
TZNAME:CET
DTSTART:20261025T010000
END:STANDARD
END:VTIMEZONE
BEGIN:VEVENT
DTSTART;TZID=Europe/Rome:20251213T000000
DTEND;TZID=Europe/Rome:20251214T000000
DTSTAMP:20260420T021430
CREATED:20260208T094632Z
LAST-MODIFIED:20260208T094632Z
UID:10003396-1765584000-1765670400@devel.camviaggi.com
SUMMARY:PARIGI
DESCRIPTION:Confermato: Ultimi posti\n\n\n    PARIGI\n\n\n     \nWEEK END NELLA \nVILLE LUMIÈRE \n\n\n\n    \n        SCARICA IL PROGRAMMA DEL VIAGGIO\n    \n\n\n\n\n            \n        \n\n            Data/e del viaggio \n            Dal 13 al 14 dicembre 2025\n        \n\n            Quota di partecipazione\n             \n490€ \n\n        \n\n            Orari e punti di partenza\n             \n\npark Lidl v. Vittorio Veneto ang. v. C. Colombo – \, ore: 6:00\np.zza f.lli Cervi davanti hotel Cristallo – \, ore: 5:30\npark Ikea sotto insegna Ikea lato Pittarosso – \, ore: 6:30\naeroporto M. Polo area partenze 1° piano – \, ore: 7:20\n\n\n        \n\n            Programma del viaggio\n             \n1° giorno – sabato 13 dicembre 2025: PARIGI Passeggiando con il naso all’insù tra le vie di Parigi è impossibile non essere rapiti dalle magnificenti architetture dei palazzi che si affacciano sugli Champs-Elysées\, il famoso viale tra place de la Concorde e l’Étoile\, dove si staglia l’arco del trionfo di Napoleone. Meno celebrati\, ma altrettanto belli e raffinati\, gli edifici di place Vendôme\, la piazza più elegante della capitale\, e quelli che costeggiano i giardini di Tuileries. Per vivere quest’atmosfera romantica e senza tempo\, impreziosita dall’incanto di Santa Lucia e del Natale\, ci ritroviamo all’aeroporto Marco Polo di Venezia\, presso l’area partenze\, o al punto di partenza navette indicato in fase d’iscrizione\, per chi usufruisce del servizio. Incontriamo l’accompagnatore CAM e decolliamo con il volo delle 9:20. L’atterraggio a Parigi è previsto alle 11:15. Transfer in città\, rilascio dei bagagli presso l’hotel e iniziamo la visita accompagnata della capitale lungo un itinerario che tocca la cattedrale di Notre-Dame\, l’edificio gotico più importante del mondo\, il palazzo del Louvre e place de la Concorde\, la celebre piazza delle ghigliottine della rivoluzione. Impossibile non fermarsi ad ammirare la basilica di Sacré-Cœur a Montmartre\, il colle della vita bohémienne della Belle Époque che rappresenta tra Otto e Novecento lo stile non convenzionale di artisti\, scrittori\, musicisti e attori marginalizzati e impoveriti. Il pranzo e cena liberi prima del pernottamento in hotel. \n2° giorno – domenica 14 dicembre 2025: PARIGI Dopo la colazione in hotel\, eccoci di nuovo per le vie della capitale francese in accordo a un itinerario accompagnato che si muove sul lungosenna toccando il ponte Alexandre III\, dal quale si apre un’affascinante prospettiva sull’hôtel des Invalides\, la panoramica place du Trocadéro e la tour Eiffel\, simbolo di Parigi nel mondo. Tempo a disposizione per lo shopping natalizio alle galleries La Fayette\, vicine alla Madaleine e all’Opéra\, sede del balletto di stato. Il pranzo è libero in corso di visite e nel pomeriggio ci trasferiamo in aeroporto per decollare con il volo delle 19:00 diretto a Venezia. L’atterraggio è previsto per le ore 20:40. Proseguiamo infine verso i luoghi di destinazione\, per chi usufruisce del servizio navetta. \n\n        \n\n            Appunti di Viaggio\n             \nDA NON DIMENTICARE. Lo smartphone per le foto e per contattare l’accompagnatore in caso di necessità\, la power-bank per non rimanere senza carica. Per l’Italia è necessario essere in possesso della carta d’identità\, per l’estero di un documento valido per l’espatrio (carta d’identità o passaporto in accordo a quanto comunicato in fase di prenotazione). \nCOSA PORTARE. È consentito portare a bordo il solo bagaglio a mano del tipo ‘borsa da pilota’ e di dimensioni max 45x36x20 cm (comprese ruote e maniglie) da riporre sotto il sedile di fronte. Si tratta di misure inferiori al consueto trolley. Non è possibile portare a bordo ulteriori colli (tipo borsette). \nCOSA INDOSSARE. Abbigliamento caldo e informale\, scarpe all’insegna della comodità. \nTELEFONO. Per chiamare un cellulare italiano mentre si è in Francia\, anteporre ‘+39’ o ‘0039’ al numero. In Francia vige il regolamento europeo ‘Roaming like at home’\, quindi gli operatori di rete mobile adottano le medesime tariffe applicate in Italia. \nMONETA. La Francia fa parte dell’UE e la moneta adottata è l’euro. \nOROLOGIO. L’Italia e la Francia adottano la stessa ora. \nPRESE ELETTRICHE. La presa francese è a due poli (tipo C) o Schuko (tipo F). Un’accortezza\, nel caso utilizzassimo spine a 3 poli\, è portare con sé un riduttore. Sempre utile l’adattatore universale. \nMANGIARE. I punti di ristoro possono dedicare la massima attenzione alle nostre necessità dietetiche\, comprese quelle dei bambini o degli ospiti con allergie e|o intolleranze. È però fondamentale segnalare in agenzia\, al momento dell’iscrizione\, eventuali esigenze legate alla dieta alimentare per ricercare un’adeguata soluzione\, che comunque non può essere garantita dal fornitore; consigliamo dunque di cautelarsi autonomamente e preventivamente per disporre di integrazioni alimentari. I pasti si intendono a menu fisso o\, se previsto\, a buffet per tutto il gruppo e non sono contemplati variazioni e|o menu à la carte. Tavoli e posti a sedere in ristorante non sono riservabili. \nCAMERE. Non si garantisce l’occupazione di camere comunicanti\, attigue\, allo stesso piano o a livello stradale. La sistemazione in camera doppia non sottintende la sistemazione con letto matrimoniale\, bensì una camera per due persone. Il letto matrimoniale\, anche se segnalato come preferenza\, non può mai essere garantito. La camera tripla prevede un letto aggiunto nella camera doppia: si tratta pertanto di una soluzione più adatta ai bambini\, che può risultare scomoda agli adulti. In ogni caso il terzo letto non comporta alcuna riduzione di prezzo. \nDA LEGGERE. ‘Notre Dame de Paris’ di Victor Hugo è un grande classico che ci porta nel cuore della Parigi medievale di re Luigi XI a seguire le vicende della bella Esmerdalda e del campanaro Quasimodo. ‘Zazie nel metró’ di Raymond Queneau è la moderna favola di un’insolente ragazzina di provincia che arriva nella Parigi degli anni ’50 per vivere il mito del suo dinamico traffico sotterraneo. \n\n        \n \n\n\n            Cosa è compreso nella quota\n             \nVolo\, trasporto bagaglio tipo under seat cabin bag 45x36x20 cm da portare e bordo\, hotel\, prima colazione\, mezzo da|per aeroporto in loco\, carta trasporti valida 2 gg.\, visite accompagnate in accordo all’itinerario\, assistenza accompagnatore CAM\, documentazione di viaggio. \n\n        \n\n            Cosa non è compreso nella quota\n             \nTransfers per|da l’aeroporto in Italia\, assicurazione annullamento viaggio\, tassa di soggiorno da versare all’hotel\, ingressi\, pranzi\, cene\, mance e quanto non indicato alla voce ‘la quota comprende‘. \n\n        \n\n            Supplementi facoltativi\n             \nCamera singola 90€; eventuale assicurazione annullamento per malattie e infortuni improvvisi 39€ per persona in camera doppia e 47€ in singola (da versare congiuntamente all’acconto). Utilizzo navetta da|per aeroporto di Venezia (servizio sotteso a un numero minimo di partecipanti): 39€. \n\n        \n\n            Modalità di iscrizione al viaggio\n             \nL’iscrizione comporta il versamento contestuale di un acconto non rimborsabile di 200€ e la presentazione di un documento di identità. Il saldo è richiesto entro 30 gg. dalla partenza. \n\n        \n\n            Modalità di pagamento del viaggio\n             \nLa quota di partecipazione può essere corrisposta entro la data indicata attraverso il sito camviaggi.com\, con carta di credito a distanza (CNP)\, con bonifico bancario Iban: IT43Y0890462562032015008364 intestato a ‘CAM s.r.l.’\, con versamento in c|c postale 001014519068 intestato a ‘CAM s.r.l.’. In alternativa\, con carta di credito\, bancomat\, a|b o contante c|o le agenzie CAM. \n\n        \n\n            Regolamento di Viaggio\n             \nLa Direzione si riserva di apportare al programma eventuali modifiche per un più opportuno svolgimento del viaggio. L’iscrizione comporta la presa visione e l’accettazione di programma\, regolamento e norme vigenti. Organizzazione tecnica: C.A.M. VIAGGI di CAM s.r.l. Licenza 921 del 17.3.08 rilasciata dalla Provincia di Padova. Travel designer Martina Passacantilli (martina.passacantilli@camviaggi.com). \n\n        \n\n            Recapiti CAM per le prenotazioni\n             \nWeb camviaggi.com E-mail gruppi@camviaggi.com Sms|WhatsApp|Telegram 3480536012 Telefono 0429770993 \n\n        \n\n            Recapiti accompagnatore\n             \nIn fase di definizione. \n\n        \n\n            Assicurazioni\n             \nMedico-bagaglio\, R.C.T. Europ Assistance 4084313\, fondo di garanzia A|217.5482|1|2022|R.
URL:https://devel.camviaggi.com/event/parigi-8/
ATTACH;FMTTYPE=image/jpeg:https://devel.camviaggi.com/wp-content/uploads/2026/02/Parigi.jpg
END:VEVENT
BEGIN:VEVENT
DTSTART;TZID=Europe/Rome:20251213T000000
DTEND;TZID=Europe/Rome:20251214T000000
DTSTAMP:20260420T021430
CREATED:20260208T094646Z
LAST-MODIFIED:20260208T094646Z
UID:10003428-1765584000-1765670400@devel.camviaggi.com
SUMMARY:BERLINO
DESCRIPTION:Posti disponibili\n\n\n    BERLINO\n\n\n     \nWEEK END \nD’AVVENTO \n\n\n\n    \n        SCARICA IL PROGRAMMA DEL VIAGGIO\n    \n\n\n\n\n            \n        \n\n            Data/e del viaggio \n            Dal 13 al 14 dicembre 2025\n        \n\n            Quota di partecipazione\n             \n420€ \n\n        \n\n            Orari e punti di partenza\n             \n\npark Lidl v. Vittorio Veneto ang. v. C. Colombo – \, ore: 6:20\np.zza f.lli Cervi davanti hotel Cristallo – \, ore: 5:50\npark Ikea sotto insegna Ikea lato Pittarosso – \, ore: 7:00\naeroporto M. Polo area partenze 1° piano – \, ore: 8:00\n\n\n        \n\n            Programma del viaggio\n             \n1° giorno – sabato 13 dicembre 2025: BERLINO \n  \nBerlino\, cuore pulsante d’Europa\, è molto più di una capitale: è l’incontro tra storia e futuro. Con i suoi quattro milioni di abitanti\, il comune più popoloso dell’U.E. ha ricoperto ruoli centrali nei momenti più significativi della storia tedesca\, dalla marca di Brandeburgo al regno di Prussia\, dall’impero tedesco alla Germania nazista\, fino alla Berlino Est della Repubblica Democratica Tedesca. Ed è proprio in questa città dalle mille sfaccettature che ci immergiamo\, avvolti dalla magia dell’Avvento. Il nostro viaggio comincia all’aeroporto di Venezia\, dove ci ritroviamo con l’accompagnatore CAM e ci prepariamo a decollare alle 10:05. Alle 11:45 siamo già a Berlino\, pronti a lasciarci incantare. Il trasferimento in centro ci introduce subito alla grandiosità della capitale: il Bundestag\, un tempo Reichstag\, ci accoglie con la sua cupola di vetro\, simbolo di trasparenza democratica. Poco distante\, la porta di Brandeburgo si erge maestosa\, mentre il memoriale dell’Olocausto ci invita al raccoglimento. A Potsdamer platz\, il futuro si fonde con il passato in un gioco di luci e architetture avveniristiche. Eccoci all’iconico checkpoint Charlie\, che ci ricorda le ferite della divisione\, mentre Gendarmenmarkt ci riporta alla bellezza: qui si tiene il celebre WeihnachtsZauber\, il mercatino di Natale più elegante d’Europa. Tra le bancarelle riscaldate\, artigiani espongono creazioni uniche: vetri soffiati\, gioielli\, candele\, tessuti. I profumi della cucina bavarese\, austriaca\, boema e berlinese si mescolano nell’aria\, mentre artisti internazionali si esibiscono davanti al Konzerthaus. La visita prosegue tra il Deutscher dom\, il Französischer dom e il Berliner dom\, attraversando la zona universitaria e la storica Bebelplatz\, fino ad Alexanderplatz. L’antenna della televisione svetta mentre la piazza si trasforma in un villaggio invernale: la piramide di Erzgebirge\, illuminata di rosa\, domina la scena\, e la gigantesca ruota panoramica ci può regalare una vista mozzafiato sulla città. Dopo la cena libera\, ci ritiriamo in hotel per il pernottamento\, con la mente già proiettata alle meraviglie del giorno successivo. \n  \n2° giorno – domenica 14 dicembre 2025: BERLINO \nDopo la colazione\, completiamo le visite proseguendo lungo un itinerario che si snoda attraverso il großer Tiergarten\, il più esteso spazio verde del centro urbano\, tagliato da una grande arteria rettilinea\, la straße des 17 Juni\, che parte dalla porta di Brandeburgo. L’asse è interrotto dalla großer Stern\, una piazza circolare al cui centro sorge la colonna della Vittoria che i cinefili ricordano nel film di Wim Wenders ‘Così lontano\, così vicino’\, sequel del ‘Cielo sopra Berlino’. La parte Sud-Ovest del parco è occupata dallo zoo la cui stazione – bahnhof Zoo – negli anni ’70 e ‘80 diventa un punto di ritrovo per spaccio di droga e prostituzione mentre oggi è posta sotto tutela monumentale. A tale riguardo è piuttosto illustrativo il libro autobiografico di Christiane Vera Felscherinow\, ‘Noi\, i ragazzi dello zoo di Berlino’. Non lontano s’innalza il castello Charlottenburg\, palazzo barocco rinomato per il suo parco\, che mostra la grandezza della dinastia degli Hohenzollern che per secoli governano la Prussia. Il castello svetta su un mare di casette di legno addobbate a festa. L’odore dei piatti tradizionali\, come le mele candite\, il pane a legna e il vin brulè\, pervade l’aria e le bande di ottoni che passeggiano per il mercato creano un’atmosfera di festa. Qui possiamo immergerci in una regale atmosfera natalizia prima di raggiungere la parte di muro ancora non abbattuta\, oggi nota come East-Side gallery\, che si apre su scorci sul romantico Oberbaunbrücke. Con 1\,3 km di lunghezza e 106 murales\, l’East-Side gallery rappresenta il più grande museo all’aperto del mondo con opere straordinarie\, tra tutte ‘Test the best’ di Birgit Kinder e ‘My God\, help me survive this mortal love’ di Dimitrji Vrubelè. Il pranzo è libero e in tempo utile raggiungiamo l’aeroporto per decollare con il volo delle 18:40 che atterra a Venezia alle 20:25. Per chi ne ha richiesto il servizio\, proseguiamo in navetta verso i nostri luoghi di destinazione. \n\n        \n\n            Appunti di Viaggio\n             \n  \nDA NON DIMENTICARE. La carta d’identità valida per l’espatrio o il passaporto\, lo smartphone per le foto e per contattare l’accompagnatore in caso di necessità\, la power-bank per non rimanere senza carica. \n  \nCOSA PORTARE. Un bagaglio a mano di dimensioni massime 45x36x20 cm da riporre sotto il sedile di fronte. \n  \nCOSA INDOSSARE. Abbigliamento informale\, outfit caldo e confortevole con calzature all’insegna della comodità. \n  \nCOLAZIONE. I punti di ristoro possono dedicare la massima attenzione alle nostre necessità dietetiche\, comprese quelle dei bambini o degli ospiti con allergie e|o intolleranze. È però fondamentale segnalare in agenzia\, al momento dell’iscrizione\, eventuali esigenze legate alla dieta alimentare per ricercare un’adeguata soluzione\, che comunque non può essere garantita dal fornitore; consigliamo dunque di cautelarsi autonomamente e preventivamente per disporre di integrazioni alimentari. I pasti si intendono a menu fisso o\, se previsto\, a buffet per tutto il gruppo e non sono contemplati variazioni e|o menu à la carte. Tavoli e posti a sedere specifici in ristorante non sono riservabili. \n  \nCAMERE. Non si garantisce l’occupazione di camere comunicanti\, attigue\, allo stesso piano o a livello stradale\, con balcone o vista panoramica. La sistemazione in camera doppia non sottintende la sistemazione con letto matrimoniale\, bensì una camera per due persone. Il letto matrimoniale\, anche se segnalato come preferenza\, non può mai essere garantito. La camera tripla prevede un letto aggiunto nella camera doppia: si tratta pertanto di una soluzione più adatta ai bambini\, che può risultare scomoda agli adulti. In ogni caso il terzo letto non comporta alcuna riduzione di prezzo. \n  \nMONETA. La Germania fa parte dell’UE e la moneta adottata è l’euro. \n  \nTELEFONO. Per chiamare un cellulare italiano mentre si è in Ger-mania\, anteporre ‘0039’ o ‘+39’ al numero. In Germania vige il regolamento europeo ‘Roaming like at home’\, quindi gli operatori di rete mobile adottano le medesime tariffe applicate in Italia. \n  \nOROLOGIO. L’Italia e la Germania adottano la stessa ora. \n  \nPRESE ELETTRICHE. Il tipo F\, la presa ‘Schuko’\, è lo standard. La spina di tipo C è diffusa specialmente per i carichi a bassa potenza. Un’accortezza\, nel caso utilizzassimo spine a 3 poli\, è portare con sé un riduttore. Sempre utile l’adattatore universale. \n\n        \n \n\n\n            Cosa è compreso nella quota\n             \nVolo\, bagaglio a mano delle dimensioni massime 45x36x20 cm\, ticket trasporti in loco valido 2 giorni\, hotel\, colazione\, accompagnatore\, documenti di viaggio. \n\n        \n\n            Cosa non è compreso nella quota\n             \nAssicurazione annullamento\, pranzi\, cene\, ingressi\, eventuale accesso al mercatino natalizio di Gendarmenmarkt\, mance e quanto non indicato alla voce ‘la quota comprende’. \n\n        \n\n            Supplementi facoltativi\n             \nCamera singola 80€; eventuale assicurazione annullamento per malattie e infortuni improvvisi 34€ per persona in camera doppia e 40€ in singola (da versare congiuntamente all’acconto); navetta da|per aeroporto (servizio sotteso a un numero minimo di partecipanti): 39€. \n\n        \n\n            Modalità di iscrizione al viaggio\n             \nL’iscrizione comporta il versamento contestuale di un acconto non rimborsabile di 160€ e la presentazione della carta d’identità. Il saldo è richiesto entro 30 gg. dalla partenza. \n\n        \n\n            Modalità di pagamento del viaggio\n             \nLa quota di partecipazione può essere corrisposta entro la data indicata attraverso il sito camviaggi.com\, con carta di credito a distanza (CNP)\, con bonifico bancario Iban: IT43Y0890462562032015008364 intestato a ‘CAM s.r.l.’\, con versamento in c|c postale 001014519068 intestato a ‘CAM s.r.l.’. In alternativa\, con carta di credito\, bancomat\, a|b o contante c|o le agenzie CAM. \n\n        \n\n            Regolamento di Viaggio\n             \nLa Direzione si riserva di apportare al programma eventuali modifiche per un più opportuno svolgimento del viaggio. L’iscrizione comporta la presa visione e l’accettazione di programma\, regolamento e norme vigenti. Organizzazione tecnica: C.A.M. VIAGGI di CAM s.r.l. Licenza 921 del 17.3.08 rilasciata dalla Provincia di Padova. Travel designer Alessia Barnes (alessia.barnes@camviaggi.com). \n\n        \n\n            Recapiti CAM per le prenotazioni\n             \nWeb camviaggi.com E-mail gruppi@camviaggi.com Sms|WhatsApp|Telegram 3480536012 Telefono 0429770993 \n\n        \n\n            Recapiti accompagnatore\n             \nDa definirsi. \n\n        \n\n            Assicurazioni\n             \nMedico-bagaglio\, fondo di garanzia A|217.5482|1|2022|R.
URL:https://devel.camviaggi.com/event/berlino/
ATTACH;FMTTYPE=image/jpeg:https://devel.camviaggi.com/wp-content/uploads/2026/02/berlin-christmas-markets.jpg
END:VEVENT
END:VCALENDAR