BEGIN:VCALENDAR
VERSION:2.0
PRODID:-//Cam Viaggi | Agenzia Viaggi e Tour Operator - ECPv6.15.11//NONSGML v1.0//EN
CALSCALE:GREGORIAN
METHOD:PUBLISH
X-ORIGINAL-URL:https://devel.camviaggi.com
X-WR-CALDESC:Eventi per Cam Viaggi | Agenzia Viaggi e Tour Operator
REFRESH-INTERVAL;VALUE=DURATION:PT1H
X-Robots-Tag:noindex
X-PUBLISHED-TTL:PT1H
BEGIN:VTIMEZONE
TZID:Europe/Rome
BEGIN:DAYLIGHT
TZOFFSETFROM:+0100
TZOFFSETTO:+0200
TZNAME:CEST
DTSTART:20250330T010000
END:DAYLIGHT
BEGIN:STANDARD
TZOFFSETFROM:+0200
TZOFFSETTO:+0100
TZNAME:CET
DTSTART:20251026T010000
END:STANDARD
BEGIN:DAYLIGHT
TZOFFSETFROM:+0100
TZOFFSETTO:+0200
TZNAME:CEST
DTSTART:20260329T010000
END:DAYLIGHT
BEGIN:STANDARD
TZOFFSETFROM:+0200
TZOFFSETTO:+0100
TZNAME:CET
DTSTART:20261025T010000
END:STANDARD
BEGIN:DAYLIGHT
TZOFFSETFROM:+0100
TZOFFSETTO:+0200
TZNAME:CEST
DTSTART:20270328T010000
END:DAYLIGHT
BEGIN:STANDARD
TZOFFSETFROM:+0200
TZOFFSETTO:+0100
TZNAME:CET
DTSTART:20271031T010000
END:STANDARD
END:VTIMEZONE
BEGIN:VEVENT
DTSTART;TZID=Europe/Rome:20260103T000000
DTEND;TZID=Europe/Rome:20260606T000000
DTSTAMP:20260419T194347
CREATED:20260208T094636Z
LAST-MODIFIED:20260208T094636Z
UID:10003413-1767398400-1780704000@devel.camviaggi.com
SUMMARY:ISTANBUL
DESCRIPTION:Confermato: Posti disponibili\n\n\n    ISTANBUL\n\n\n     \nEPIFANIA \nTRA I MINARETI \n\n\n\n    \n        SCARICA IL PROGRAMMA DEL VIAGGIO\n    \n\n\n\n\n            \n        \n\n            Data/e del viaggio \n            Dal 3 al 6 gennaio 2026\n        \n\n            Quota di partecipazione\n             \n1.140€ \n\n        \n\n            Orari e punti di partenza\n             \n\npark Penny Market strada Battaglia – \, ore: 5:20\npark Lidl v. Vittorio Veneto ang. v. C. Colombo – \, ore: 5:00\np.zza f.lli Cervi alle fermate CAM Viaggi – \, ore: 4:30\npark Il Faro area distributore carburanti – \, ore: 4:00\npark Ikea sotto insegna Ikea lato Pittarosso – \, ore: 5\,50\naeroporto M. Polo area partenze 1° piano – \, ore: 6:40\npark IperTosano area Comet – \, ore: 3:45\npark casello Vicenza Est – \, ore: 5:30\npark casello autostradale – \, ore: 5:00\n\n\n        \n\n            Programma del viaggio\n             \n1° giorno – Sabato 3 gennaio: VERSO ORIENTE \n  \nÈ l’alba di un viaggio che profuma d’Oriente. Ci ritroviamo all’aeroporto di Venezia e\, lasciandoci alle spalle le nebbie padane\, decolliamo verso Istanbul con il volo delle 9:40. Atterriamo alle 14:15 locali\, accolti dall’atmosfera cosmopolita della Turchia e dalla luce intensa di una metropoli che unisce due continenti: Asia ed Europa. Dopo l’incontro con la guida\, ci dirigiamo subito nel cuore di Istanbul\, dove ci attende la straordinaria moschea di Solimano il Magnifico\, incastonata su un colle che domina il Corno d’Oro: il panorama è mozzafiato. Raggiungiamo quindi l’hotel per il check-in in hotel\, la cena e il pernottamento. \n  \n2° giorno – Domenica 4 gennaio: LE MOSCHEE \nDopo la colazione\, raggiungiamo il quartiere storico di Istanbul\, scoprendo l’ippodromo\, sede delle corse delle bighe imperiali\, e la moschea Blu\, il cui interno scintilla delle celebri maioliche turchesi di Nicea. Di fronte\, s’innalza Santa Sofia: l’edificio che racchiude mille anni di fede\, arte e potere\, tra cupole vertiginose e mosaici dorati. Il pranzo in ristorante è l’occasione per gustare i sapori tipici della cucina ottomana. Subito dopo\, scendiamo nella Cisterna basilica\, dove colonne illuminate si riflettono nell’acqua\, creando un’atmosfera onirica. Risaliti in superficie\, ci perdiamo tra i vicoli del Gran Bazaar\, un labirinto di colori\, tappeti\, gioielli e profumi d’Oriente. Rientrati in hotel\, ceniamo ma…  la serata non è ancora finita. Usciamo per una passeggiata notturna in piazza Taksim\, cuore pulsante della città moderna. Le luci\, la musica\, i caffè affacciati sul viale dell’Indipendenza\, la strada pedonale più famosa di Istanbul\, ci avvolgono in un turbine elettrico e cosmopolita. Al temine\, un nuovo rientro in hotel per il pernottamento.  \n  \n3° giorno – Lunedì 5 gennaio: IL BOSFORO \n  \nIl nuovo giorno inizia tra palazzi e spezie. Visitiamo dopo la colazione il maestoso complesso di Topkapi\, antica residenza dei sultani ottomani per quasi quattro secoli\, muovendoci tra cortili silenziosi e sale riccamente decorate. Scopriamo l’harem delle concubine e\, dopo il pranzo\, attraversiamo il Corno d’Oro per raggiungere la preziosa moschea di Rustempasa\, sfoggio di maestria architettonica e di arte delle ceramiche. Eccoci al suggestivo mercato delle spezie\, a inebriarci dei profumi della cannella\, dello zafferano e dei tè aromatici. E poi… il Bosforo! Saliamo a bordo di un battello e navighiamo tra le due sponde\, asiatica ed europea\, ammirando palazzi nobiliari\, minareti e ville affacciate sull’acqua. La serata si conclude con una cena di pesce sul ponte di Galata\, dove le luci dei traghetti e il profilo delle moschee accompagnano la nostra serata. Rientriamo in hotel\, alla fine di una giornata indimenticabile\, per il pernottamento. \n  \n4° giorno – Martedì 6 gennaio: ARRIVEDERCI ISTANBUL \n  \nL’ultimo risveglio è sempre inebriante. Dopo colazione\, ci spostiamo sul lungomare per scoprire Galataport\, moderno progetto urbanistico e culturale che ospita\, tra l’altro\, il museo d’Arte Moderna\, firmato Renzo Piano. Passeggiamo poi tra i quartieri di Balat e Fener\, dove case colorate\, scale di pietra e balconi fioriti raccontano le storie dell’Istanbul più autentica e antica. È qui che si erge il Patriarcato Ecumenico di Costantinopoli\, punto di riferimento spirituale della cristianità ortodossa. Dopo l’ultimo pranzo insieme\, ci dirigiamo in aeroporto per il volo di rientro delle ore 18:00 (locali). Atterriamo a Venezia alle 18:40\, con negli occhi l’oro delle cupole e nel cuore il ritmo del Bosforo. Per chi ha prenotato il servizio\, proseguiamo in navetta verso le località di destinazione. Addio\, Istanbul! O arrivederci…? \n \n\n        \n\n            Appunti di Viaggio\n             \n  \nDA NON DIMENTICARE. Lo smartphone per le foto e per contattare l’accompagnatore in caso di necessità\, la power-bank per non rimanere senza carica. Per entrare in Turchia è necessario il passaporto o la carta di identità (in stato di perfetta integrità e valida per l’espatrio) con almeno cinque mesi di validità residua dalla data di ingresso nel Paese. \n  \nCOSA PORTARE. Un bagaglio da stiva di massimo 23 kg e misure standard più un bagaglio a mano di massimo 8 kg e misure 55x40x23 cm. \n  \nCOSA INDOSSARE. Abbigliamento caldo e confortevole\, scarpe all’insegna della comodità\, un cambio elegante per il cenone di San Silvestro. \n  \nTELEFONO. Per chiamare un cellulare italiano mentre si è in Turchia\, anteporre ‘+39’ o ‘0039’ al numero. In Turchia non vige il regolamento ‘Roaming like at home’\, quindi gli operatori di rete mobile adottano tariffe diverse da quelle applicate in Italia. Una delle opzioni più comuni per telefonare è acquistare una SIM dati locale. Un’altra opzione è utilizzare il wi-fi gratuito disponibile in hotel\, ristoranti\, caffè e centri commerciali. \n  \nMONETA. La Turchia non fa parte dell’UE e la moneta adottata è la lira turca: 1 TL corrisponde a 0\,03€. \n  \nOROLOGIO. ll fuso orario in Turchia è UTC|GMT +3 ore. Cioè l’ora in Turchia è 2 ore avanti rispetto l’Italia nei mesi invernali\, mentre nei mesi estivi è 1 ora avanti perchè il paese non segue più l’impostazione dell’ora legale. \n  \nPRESE ELETTRICHE. La presa turca è a due poli (tipo C) o Schuko (tipo F). Un’accortezza\, nel caso utilizzassimo spine a 3 poli\, è portare con sé un riduttore. Sempre utile l’adattatore universale. \n  \nMANGIARE. I punti di ristoro possono dedicare la massima attenzione alle nostre necessità dietetiche\, comprese quelle dei bambini o degli ospiti con allergie e|o intolleranze. È però fondamentale segnalare in agenzia\, al momento dell’iscrizione\, eventuali esigenze legate alla dieta alimentare per ricercare un’adeguata soluzione\, che comunque non può essere garantita dal fornitore; consigliamo dunque di cautelarsi autonomamente e preventivamente per disporre di integrazioni alimentari. I pasti si intendono a menu fisso o\, se previsto\, a buffet per tutto il gruppo e non sono contemplati variazioni e|o menu à la carte. Tavoli e posti a sedere in ristorante non sono riservabili. \n  \nCAMERE. Non si garantisce l’occupazione di camere comunicanti\, attigue\, allo stesso piano o a livello stradale. La sistemazione in camera doppia non sottintende la sistemazione con letto matrimoniale\, bensì una camera per due persone. Il letto matrimoniale\, anche se segnalato come preferenza\, non può mai essere garantito. La camera tripla prevede un letto aggiunto nella camera doppia: si tratta pertanto di una soluzione più adatta ai bambini\, che può risultare scomoda agli adulti. In ogni caso il terzo letto non comporta alcuna riduzione di prezzo. \n  \nADEGUAMENTO VALUTARIO E CARBURANTE. Eventuali adeguamenti valutari o incrementi del carburante sono comunicati\, come da regolamento\, entro 21 gg. prima della data di partenza. Il pacchetto dei servizi è acquistato in euro. \n\n        \n \n\n\n            Cosa è compreso nella quota\n             \nTrasporto con voli di linea Turskish Airlines da Venezia; trasporto in franchigia 23 kg bagaglio in stiva e 8 kg bagaglio a mano; transfer interni in bus come da programma; hotel 4* (categoria locale); tassa municipale; pensione completa dalla cena del giorno d’arrivo al pranzo dell’ultimo giorno (menu turistici); cena di pesce al Bosforo; cenone di San Salvestro con bevande illimitate\, musica e danza del ventre; escursione serale sul viale dell’Indipendenza; guida|accompagnatore; auricolari e radioguide; ingressi alla Cisterna basilica\, al museo d’Arte Moderna\, all’ippodromo\, alla moschea Blu\, alla basilica di Santa Sofia\, alla moschea di Solimano il Magnifico\, alla moschea di Rustempasa\, al palazzo di Topkapi e all’harem del Sultano; crociera sul Bosforo; assistente aeroportuale a Venezia; documenti di viaggio. \n\n        \n\n            Cosa non è compreso nella quota\n             \nTrasferimento da|per aeroporto di Venezia\, assicurazione annullamento\, facchinaggio\, mance (consigliamo 20€ a persona da consegnare in loco alla guida)\, tassa municipale da versare in hotel e quanto non indicato alla voce ‘la quota comprende’. \n\n        \n\n            Supplementi facoltativi\n             \nCamera singola 210€; eventuale assicurazione annullamento per malattie e infortuni improvvisi 92€ per persona in camera doppia e 109€ in singola (da versare congiuntamente all’acconto). Utilizzo navetta da|per aeroporto di partenza e arrivo (servizio sotteso a un numero minimo di partecipanti): da 39€ a 59€. \n\n        \n\n            Modalità di iscrizione al viaggio\n             \nL’iscrizione comporta il versamento contestuale di un acconto non rimborsabile di 340€ e la presentazione del passaporto|carta d’identità valida per l’espatrio. Il saldo è richiesto entro 30 gg. dalla partenza. \n\n        \n\n            Modalità di pagamento del viaggio\n             \nLa quota di partecipazione può essere corrisposta entro la data indicata attraverso il sito camviaggi.com\, con carta di credito a distanza (CNP)\, con bonifico bancario Iban: IT43Y0890462562032015008364 intestato a ‘CAM s.r.l.’\, con versamento in c|c postale 001014519068 intestato a ‘CAM s.r.l.’. In alternativa\, con carta di credito\, bancomat\, a|b o contante c|o le agenzie CAM. \n\n        \n\n            Regolamento di Viaggio\n             \nLa Direzione si riserva di apportare al programma eventuali modifiche per un più opportuno svolgimento del viaggio. L’iscrizione comporta la presa visione e l’accettazione di programma\, regolamento e norme vigenti. Organizzazione tecnica: C.A.M. VIAGGI di CAM s.r.l. Licenza 921 del 17.3.08 rilasciata dalla Provincia di Padova. Travel designer Alessia Barnes (alessia.barnes@camviaggi.com). \n\n        \n\n            Recapiti CAM per le prenotazioni\n             \nWeb camviaggi.com E-mail gruppi@camviaggi.com Sms|WhatsApp|Telegram 3480536012 Telefono 0429770993 \n\n        \n\n            Recapiti accompagnatore\n             \nIn definizione. \n\n        \n\n            Assicurazioni\n             \nMedico-bagaglio\, fondo di garanzia A|217.5482|1|2022|R.
URL:https://devel.camviaggi.com/event/istanbul-12/
ATTACH;FMTTYPE=image/jpeg:https://devel.camviaggi.com/wp-content/uploads/2026/02/30438_20220411093926_TURCHIA2-1.jpg
END:VEVENT
BEGIN:VEVENT
DTSTART;TZID=Europe/Rome:20260222T000000
DTEND;TZID=Europe/Rome:20260301T000000
DTSTAMP:20260419T194348
CREATED:20260208T094735Z
LAST-MODIFIED:20260208T094735Z
UID:10003489-1771718400-1772323200@devel.camviaggi.com
SUMMARY:OMAN
DESCRIPTION:Confermato: Posti disponibili\n\n\n    OMAN\n\n\n     \nCAMPO TENDATO \nOASI E SULTANI \n\n\n\n    \n        SCARICA IL PROGRAMMA DEL VIAGGIO\n    \n\n\n\n\n            \n        \n\n            Data/e del viaggio \n            Dal 22 febbraio all’1 marzo 2026\n        \n\n            Quota di partecipazione\n             \n2.615€ \n\n        \n\n            Orari e punti di partenza\n             \n\npark Penny Market strada Battaglia – \, ore: 5:20\npark Lidl v. Vittorio Veneto ang. v. C. Colombo – \, ore: 5:00\np.zza f.lli Cervi davanti hotel Cristallo – \, ore: 4:30\npark Il Faro area distributore carburanti – \, ore: 4:00\npark Ikea sotto insegna Ikea lato Pittarosso – \, ore: 5:50\naeroporto M. Polo area partenze 1° piano – \, ore: 6:40\npark IperTosano area Comet – \, ore: 3:45\npark casello Vicenza Est – \, ore: 5:30\npark casello autostradale – \, ore: 5:10\n\n\n        \n\n            Programma del viaggio\n             \n1° GIORNO | VERSO L’OMAN \n  \nCi ritroviamo in aeroporto a Venezia\, o ai punti di partenza comunicati in fase d’iscrizione\, pronti a spiccare il volo verso l’Oriente. Dopo le operazioni d’imbarco\, decolliamo con il volo Turkish Airlines delle 9:35. Raggiungiamo Istanbul alle 14:15 (ora locale) e proseguiamo con un volo serale per Muscat alle 19:30 (ora locale). La notte ci accoglie tra le nuvole: ceniamo e pernottiamo a bordo\, sognando l’Oman. \n  \n2° GIORNO | LA DOLINA DI BIMAH SINKHOLE\, L’OASI DI WADI TIWI\, SUR E LE TARTARUGHE DI RAS AL-JINZ \nAtterriamo a Muscat all’1:20 (ora locale) del mattino. Dopo le formalità doganali e il giusto riposo in hotel\, la giornata si apre con la prima meraviglia: Bimah Sinkhole\, una dolina naturale dalle acque color smeraldo che la leggenda vuole nata da una stella cadente. Proseguiamo per Wadi Tiwi\, oasi di palme e ruscelli che scivolano tra le montagne\, un giardino segreto nel cuore dell’aridità. Dopo il pranzo raggiungiamo Qalhat\, per ammirare il Mausoleo di Bibi Maryam\, ricordato da Marco Polo nel Milione. Ultime emozioni del giorno: il faro di Ajya\, sentinella sul mare\, e la fabbrica di dhow\, tipiche imbarcazioni di legno che a Sur ci raccontano storie di marinai e di spezie. In serata arriviamo a Ras Al-Hadd\, ceniamo e\, sotto un cielo stellato\, entriamo nella riserva di Ras Al-Jinz. Qui\, in silenzio\, attendiamo la magia della nidificazione delle tartarughe verdi. Rientriamo infine in hotel\, con il cuore colmo di meraviglia\, per il pernottamento. \n  \n3° GIORNO | L’OASI DI WADI BANI KHALED\, IL DESERTO DI WAHIBA SANDS E NOTTE IN CAMPO TENDATO \n  \nDopo la colazione\, ci addentriamo fino a Wadi Bani Khaled\, oasi limpida incastonata tra rocce e palmeti. L’acqua trasparente invita a un bagno rigenerante. Dopo il pranzo ci avventuriamo in Jeep 4×4 nel deserto di Wahiba Sands\, dove le dune dipingono una distesa dorata senza fine. Una famiglia beduina ci accoglie con caffè e datteri\, offrendoci l’antica arte dell’ospitalità omanita. Al tramonto\, il sole incendia la sabbia e il vento diventa musica: viviamo una notte indimenticabile al Dream Up Camp\, campo tendato esclusivo riservato al nostro gruppo. Ceniamo sotto le stelle e ci lasciamo avvolgere dal silenzio del deserto. \n  \n4° GIORNO | L’OMAN ACROSS AGES E JABAL AKHDAR \n  \nDopo la colazione nel campo\, partiamo per scoprire il Museo Oman Across Ages\, uno dei più innovativi al mondo: un viaggio nella storia del sultanato\, tra luci\, suoni e architetture futuristiche. Dopo il pranzo saliamo in quota verso Jabal Akhdar\, fino a 2.000 m\, e tra i villaggi di Al-Ain e Al-Aqar ci perdiamo e ci ritroviamo tra le terrazze coltivate a melograni e rose. Dal Diana’s point\, dove la principessa del Galles si ferma nel 1986\, ammiriamo infine un panorama che toglie il fiato\, prima di arrivare in hotel per la cena e il pernottamento. \n  \n5° GIORNO | IL CASTELLO DI JABRIN\, IL FORTE DI BAHLA\, IL VILLAGGIO DI FANGO DI MISFAT\, AL HAMRA E NIZWA \n  \nDopo la colazione raggiungiamo il castello di Jabrin\, gioiello di arabeschi e soffitti dipinti. Ci fermiamo per una sosta fotografica al forte preislamico di Bahla\, patrimonio UNESCO; poi continuiamo verso Misfat Al-Abriyeen\, villaggio di fango e pietra sospeso sul vuoto\, dove il tempo si è fermato. Pranziamo alla Misfah Old House\, gustando ricette locali preparate da famiglie omanite\, e nel pomeriggio\, ad Al-Hamra\, visitiamo la casa-museo Bait Al-Safah. Qui le donne del villaggio ci mostrano antichi mestieri e ci offrono il tradizionale caffè omanita con datteri. Arriviamo infine a Nizwa\, antica capitale dell’Oman\, e ci perdiamo tra i profumi d’incenso e le botteghe del suq. Cena e pernottamento in hotel. \n  \n6° GIORNO | IL MERCATO DI NIZWA\, IL PALMETO DI BIRKAT AL-MOUZ E MUSCAT \n  \nDopo la colazione\, attraversiamo il mercato del bestiame di Nizwa\, un caleidoscopio di voci e colori\, e raggiungiamo il forte di Nizwa\, imponente guardiano della città. Proseguiamo per Birkat Al-Mouz\, dove pranziamo sotto un palmeto\, ospiti di una famiglia locale. Nel pomeriggio raggiungiamo Muscat: ci attendono il suq di Mutrah\, con le spezie\, le stoffe e i profumi\, e la Mutrah Corniche\, tra statue di delfini e scorci sul porto. Rientriamo in hotel per la cena e il pernottamento. \n  \n7° GIORNO | MUSCAT \n  \nDopo la colazione\, è la Grande Moschea del sultano Qaboos\, con il suo tappeto persiano monopezzo e il lampadario di cristalli Swarovski\, a incantarci. Proseguiamo verso la Royal Opera House\, elegante tempio dell’arte\, e pranziamo in ristorante prima di fermarci ad ammirare il palazzo Al-Alam\, residenza del sultano\, affiancato dai forti portoghesi Mirani e Jalali. Nel pomeriggio visitiamo il Museo Bait Al-Zubair\, scrigno di costumi\, armi e memorie dell’Oman\, e ci imbarchiamo poi per una crociera in dhow al tramonto\, mentre la costa si tinge d’oro e d’arancio. Concludiamo la giornata con una cena a base di pesce locale\, prima di rientrare in hotel per l’ultima notte a Muscat. \n  \n8° GIORNO | ADDIO OMAN \n  \nAll’alba\, dopo la colazione con cestino da viaggio\, ci trasferiamo in aeroporto per il volo Turkish Airlines delle 8:10 (ora locale) per Istanbul. Arriviamo alle 12:50 (ora locale) e proseguiamo per Venezia con il volo delle 18:05 (ora locale)\, atterrando alle 18:40. Rientriamo a casa con le navette\, per chi ne ha richiesto il servizio\, portando negli occhi la luce dell’Oman\, l’oro delle dune e il blu profondo del cielo d’Oriente. Un viaggio che porteremo nel cuore. \n\n        \n\n            Appunti di Viaggio\n             \nDA NON DIMENTICARE. Lo smartphone per le foto e per contattare l’accompagnatore in caso di necessità\, la power bank per non rimanere senza carica. Per entrare in Oman è necessario il passaporto con validità residua di almeno 6 mesi al momento dell’arrivo nel Paese. I cittadini italiani possono entrare nel sultanato ottenendo un visto di soggiorno per turismo consistente in un timbro applicato all’arrivo in aeroporto. \n  \nCOSA INDOSSARE. Abbigliamento informale\, scarpe all’insegna della comodità. \n  \nTELEFONO. Per chiamare un cellulare italiano mentre si è in Oman\, anteporre ‘+39’ o ‘0039’ al numero. In Oman non vige il regolamento ‘Roaming like at home’\, quindi gli operatori di rete mobile non adottano le medesime tariffe applicate in Italia. \n  \nMONETA. In Oman la moneta adottata è il rial: 1 rial omanita corrisponde a 2\,50€ ca. \n  \nOROLOGIO. Oman e Italia non adottano lo stesso orario. In itinere tra Italia e Oman\, spostare le lancette avanti di 3 ore. \n  \nPRESE ELETTRICHE. La presa omanita è a lamelle di tipo britannico: indispensabile l’adattatore universale. \n  \nMANGIARE. I punti di ristoro possono dedicare la massima attenzione alle nostre necessità dietetiche\, comprese quelle dei bambini o degli ospiti con allergie e|o intolleranze. È però fondamentale segnalare in agenzia\, al momento dell’iscrizione\, eventuali esigenze legate alla dieta alimentare per ricercare un’adeguata soluzione\, che comunque non può essere garantita dal fornitore; consigliamo dunque di cautelarsi autonomamente e preventivamente per disporre di integrazioni alimentari. I pasti si intendono a menu fisso o\, se previsto\, a buffet per tutto il gruppo e non sono contemplati variazioni e|o menu à la carte. Tavoli e posti a sedere specifici in ristorante non sono riservabili. \n  \nCAMERE. Non si garantisce l’occupazione di camere comunicanti\, attigue\, allo stesso piano o a livello stradale. La sistemazione in camera doppia non sottintende la sistemazione con letto matrimoniale\, bensì una camera per due persone. Il letto matrimoniale\, anche se segnalato come preferenza\, non può mai essere garantito. La camera tripla prevede un letto aggiunto nella camera doppia: si tratta pertanto di una soluzione più adatta ai bambini\, che può risultare scomoda agli adulti. In ogni caso il terzo letto non comporta alcuna riduzione di prezzo. \n  \nADEGUAMENTO VALUTARIO E CARBURANTE. Eventuali adeguamenti valutari o incrementi del carburante sono comunicati\, come da regolamento\, entro 21 gg. prima della data di partenza. Il pacchetto dei servizi è acquistato in euro. \n\n        \n \n\n\n            Cosa è compreso nella quota\n             \nVoli di linea Turskish Airlines da Venezia; trasporto di 1 bagaglio in stiva di max 23 kg e di 1 bagaglio a mano di max 8 kg; spostamenti in Oman in bus\, pulmino e Jeep 4×4; visite\, escursioni e ingressi come da programma\, tasse di soggiorno\, 6 pernottamenti in hotel 4 stelle e 3 stelle (riserva delle tartarughe) e 1 pernottamento in campo tendato esclusivo; pasti come da programma dalla colazione del 2° alla colazione dell’ultimo giorno (ultimo giorno box breakfast)\, acqua minerale naturale in bottiglia ai pasti; visita all’Oman Across Ages museum; pranzo tradizionale omanita; visita con degustazione di caffè omanita e datteri a una casa beduina; ingresso al teatro dell’Opera House di Mascate; crociera in dhow al tramonto; escursione serale alla riserva delle tartarughe di Ras Al Jinz; guida|accompagnatorer e auricolari|radioguide. \n\n        \n\n            Cosa non è compreso nella quota\n             \nTrasferimento da|per aeroporto di Venezia\, assicurazione annullamento\, facchinaggio\, mance (obbligatorie 50€ a persona da consegnare in loco alla guida)\, bevande extra e quanto non indicato alla voce ‘la quota comprende’. \n\n        \n\n            Supplementi facoltativi\n             \nCamera singola 495€; eventuale assicurazione annullamento per malattie e infortuni improvvisi 210€ per persona in camera doppia e 249€ in singola (da versare congiuntamente all’acconto). Utilizzo navetta da|per aeroporto di partenza e arrivo (servizio sotteso a un numero minimo di partecipanti): 49€ da Padova\, Mezzavia di Due Carrare\, Monselice\, Rovigo\, Vicenza o Noventa Vicentina\, 59€ da Giacciano con Baruchella o Legnago. \n\n        \n\n            Modalità di iscrizione al viaggio\n             \nL’iscrizione comporta il versamento contestuale di un acconto non rimborsabile di 785€ e la presentazione del passaporto valido per l’espatrio. Il saldo è richiesto entro 30 gg. dalla partenza. \n\n        \n\n            Modalità di pagamento del viaggio\n             \nLa quota di partecipazione può essere corrisposta entro la data indicata attraverso il sito camviaggi.com\, con carta di credito a distanza (CNP)\, con bonifico bancario Iban: IT43Y0890462562032015008364 intestato a ‘CAM s.r.l.’\, con versamento in c|c postale 001014519068 intestato a ‘CAM s.r.l.’. In alternativa\, con carta di credito\, bancomat\, a|b o contante c|o le agenzie CAM. \n\n        \n\n            Regolamento di Viaggio\n             \nLa Direzione si riserva di apportare al programma eventuali modifiche per un più opportuno svolgimento del viaggio. L’iscrizione comporta la presa visione e l’accettazione di programma\, regolamento e norme vigenti. Organizzazione tecnica: C.A.M. VIAGGI di CAM s.r.l. Licenza 921 del 17.3.08 rilasciata dalla Provincia di Padova. Travel designer Alessia Barnes (alessia.barnes@camviaggi.com). \n\n        \n\n            Recapiti CAM per le prenotazioni\n             \nWeb camviaggi.com E-mail gruppi@camviaggi.com Sms|WhatsApp|Telegram 3480536012 Telefono 0429770993 \n\n        \n\n            Recapiti accompagnatore\n             \nUn assistente aeroportuale esclusivo è presente a Venezia per le operazioni di check-in|imbarco (il recapito viene comunicato con i documenti di viaggio). L’incontro con l’accompagnatore|guida è fissato all’aeroporto d’arrivo. \n\n        \n\n            Assicurazioni\n             \nMedico-bagaglio\, fondo di garanzia A|217.5482|1|2022|R.
URL:https://devel.camviaggi.com/event/oman-3/
ATTACH;FMTTYPE=image/jpeg:https://devel.camviaggi.com/wp-content/uploads/2026/02/oman-wadi.jpg
END:VEVENT
END:VCALENDAR