BEGIN:VCALENDAR
VERSION:2.0
PRODID:-//Cam Viaggi | Agenzia Viaggi e Tour Operator - ECPv6.15.11//NONSGML v1.0//EN
CALSCALE:GREGORIAN
METHOD:PUBLISH
X-ORIGINAL-URL:https://devel.camviaggi.com
X-WR-CALDESC:Eventi per Cam Viaggi | Agenzia Viaggi e Tour Operator
REFRESH-INTERVAL;VALUE=DURATION:PT1H
X-Robots-Tag:noindex
X-PUBLISHED-TTL:PT1H
BEGIN:VTIMEZONE
TZID:Europe/Rome
BEGIN:DAYLIGHT
TZOFFSETFROM:+0100
TZOFFSETTO:+0200
TZNAME:CEST
DTSTART:20250330T010000
END:DAYLIGHT
BEGIN:STANDARD
TZOFFSETFROM:+0200
TZOFFSETTO:+0100
TZNAME:CET
DTSTART:20251026T010000
END:STANDARD
BEGIN:DAYLIGHT
TZOFFSETFROM:+0100
TZOFFSETTO:+0200
TZNAME:CEST
DTSTART:20260329T010000
END:DAYLIGHT
BEGIN:STANDARD
TZOFFSETFROM:+0200
TZOFFSETTO:+0100
TZNAME:CET
DTSTART:20261025T010000
END:STANDARD
BEGIN:DAYLIGHT
TZOFFSETFROM:+0100
TZOFFSETTO:+0200
TZNAME:CEST
DTSTART:20270328T010000
END:DAYLIGHT
BEGIN:STANDARD
TZOFFSETFROM:+0200
TZOFFSETTO:+0100
TZNAME:CET
DTSTART:20271031T010000
END:STANDARD
END:VTIMEZONE
BEGIN:VEVENT
DTSTART;TZID=Europe/Rome:20260614T000000
DTEND;TZID=Europe/Rome:20260620T000000
DTSTAMP:20260419T205920
CREATED:20260208T094751Z
LAST-MODIFIED:20260208T094751Z
UID:10003506-1781395200-1781913600@devel.camviaggi.com
SUMMARY:LE COTSWOLDS
DESCRIPTION:Confermato: Posti disponibili\n\n\n    LE COTSWOLDS\n\n\n     \nLONDRA \nE IL KENT \n\n\n\n    \n        SCARICA IL PROGRAMMA DEL VIAGGIO\n    \n\n\n\n\n            \n        \n\n            Data/e del viaggio \n            Dal 14 al 20 giugno 2026\n        \n\n            Quota di partecipazione\n             \n2.190€ \n\n        \n\n            Orari e punti di partenza\n             \n\npark Penny Market strada Battaglia – \, ore: 3:00\npark Lidl v. Vittorio Veneto ang. v. C. Colombo – \, ore: 3:20\np.zza f.lli Cervi fronte hotel Cristallo – \, ore: 3:50\npark Il Faro area distributore carburanti – \, ore: 3:15\npark Ikea sotto insegna Ikea lato Pittarosso – \, ore: 2:30\naeroporto G. Marconi area partenze 1° piano – \, ore: 5:00\npark IperTosano area Comet – \, ore: 3:00\npark Abita Design casello Ferrara Nord – \, ore: 4:20\npark casello Vicenza Est – \, ore: 2:10\npark casello autostradale – \, ore: 2:30\n\n\n        \n\n            Programma del viaggio\n             \n1° giorno – 14 giugno 2026: ARRIVO A LONDRA \nSiamo pronti a un tour che non è solo un itinerario ma un autentico racconto britannico da assaporare giorno dopo giorno. Decolliamo da Bologna alle 7:05 per atterrare a Londra alle 8:30 (ora locale). Ci trasferiamo in hotel e dedichiamo l’intera giornata a una prima scoperta della metropoli inglese\, capitale del Regno Unito\, che vanta un’identità unica\, donatale da secoli di storia e lifestyle che creano tendenze in tutto il mondo. Londra è l’emblema della multiculturalità: i suoi oltre 8 milioni di abitanti rappresentano complessivamente 270 nazionalità e parlano 300 lingue diverse. Il pranzo e la cena\, come l’intera giornata\, sono liberi\, prima del pernottamento in hotel.  \n  \n2° giorno – 15 giugno 2026: LONDRA \nDopo la colazione in hotel\, incontriamo la nostra guida per un giro panoramico di Londra\, partendo dal West End. Passeggiamo lungo i viali di Hyde park e facciamo tappa a Piccadilly circus e Trafalgar square\, zone residenziali e commerciali\, al quartiere di Westminster\, passando per la residenza del Primo Ministro al n° 10 di Downing street\, e alla alla Parliament square con gli iconici abbazia e Big Ben. L’itinerario si conclude al quartiere Covent Garden. Il pranzo\, il pomeriggio e la cena sono liberi\, prima del rientro in hotel per il pernottamento. \n  \n3° giorno – 16 giugno 2026: OXFORD E IL BLENHEIM PALACE \nDopo la colazione\, ci muoviamo in bus verso Oxford\, città gotica famosa per la sua storica università. Ci attendono una passeggiata e l’ingresso a un college dell’ateneo. Dopo il pranzo libero\, ci riaccomodiamo in bus per raggiungere il Blenheim palace\, patrimonio dell’umanità e residenza storica tra le più importanti dell’Inghilterra. Questa magnifica residenza barocca è il luogo di nascita di Winston Churchill e ci offre splendidi giardini e arredi sontuosi. Proseguiamo infine verso le Cotswold del Nord\, una regione famosa per le dolci colline e i villaggi tradizionali con case in pietra. Ci sistemiamo in hotel\, per la cena e il pernottamento. \n  \n4° giorno – 17 giugno 2026: LE COTSWOLDS \nDopo la prima colazione\, ci spostiamo alle Cotswold del Sud\, dove scopriamo villaggi pittoreschi\, iconici per le strade acciottolate e le abbazie che sembrano uscite da una fiaba. Il pranzo è libero in corso di visite\, mentre nel pomeriggio ci fermiamo per un cream tea\, antica tradizione del tè pomeridiano inglese che include scones con clotted cream e marmellata di fragole. Rientriamo infine in hotel\, per la cena e pernottamento. \n  \n5° giorno – 18 giugno 2026: IL GIN E IL LEEDS CASTLE \nDopo la prima colazione in hotel\, ci muoviamo in bus verso il Kent. Ci fermiamo lungo il percorso per visitare una distilleria di gin… immacabili una degustazione e una visita guidata per scoprire il processo di distillazione della bevanda nazionale attraverso l’utilizzo di prodotti botanici e ingredienti stagionali tipici della zona. Dopo il pranzo libero\, ci attende una secoda tappa al Leeds castle\, una delle attrazioni più incantevoli della regione\, conosciuto come il castello delle regine. Immerso in un parco che si estende su oltre 500 ettari\, è circondato da un magnifico lago ed eleganti giardini; durante la visita\, esploriamo le deliziose stanze interne\, i giardini e ascoltiamo la storia affascinante di questa residenza di campagna. Eccoci infine alla contea del Kent\, per la cena e il pernottamento in hotel. \n  \n6° giorno – 19 giugno 2026: LA CONTEA DI KENT\, CANTERBURY\, WHISTABLE E LE SCOGLIERE DI DOVER \nPrima colazione in hotel e partenza per Canterbury! Visitiamo la cattedrale\, uno dei luoghi di culto più significativi del Regno Unito\, dichiarata patrimonio dell’umanità. L’edificio è famoso per la sua architettura gotica e per essere stato teatro di eventi storici cruciali. Partiamo per Whistable\, sulla costa settentrionale del Kent\, paese di pescatori associato da sempre alle ostriche e alle numerose gallerie d’arte e negozi di artigianato. Tempo libero per il pranzo e continuiamo verso Dover per ammirare le imponesti falesie di gesso che si affacciano sul canale della Manica. Siamo pronti per rientrare a Londra per la cena libera e per il pernottamento. \n  \n7° giorno – 20 giugno 2026: LONDRA  \nDopo la colazione abbiamo un’intera giornata libera da dedicare al completamento delle visite individuali alla città. Il pranzo è libero mentre il trasferimento in aeroporto è privato. Decolliamo da Londra alle 20:25 (ora locale) e atterriamo a Bologna alle 23:35. Si chiude qui il sipario. Ma il cuore si apre\, pieno di immagini\, emozioni e incontri. L’Inghilterra non ci lascia: resta con noi\, forever. \n\n        \n\n            Appunti di Viaggio\n             \nCOSA PORTARE. È consentito portare in stiva un bagaglio di max 20 kg e a bordo il solo bagaglio a mano di dimensioni max 40x30x20 cm (comprese ruote e maniglie) da riporre sotto il sedile di fronte. Si tratta di misure inferiori al consueto trolley. Non è possibile portare a bordo ulteriori colli (tipo borsette). \n  \nCOSA INDOSSARE. Abbigliamento confortevole\, casual e informale. Scarpe all’insegna della comodità. \n  \nDA NON DIMENTICARE. La carta d’identità valida per l’espatrio o il passaporto\, lo smartphone per le vostre foto e per contattare l’accompagnatore in caso di necessità\, e la power-bank\, la batteria esterna per il cellulare. \n  \nMONETA. Il Regno Unito non fa parte dell’UE e la moneta adottata è la sterlina. Più del contante\, sono apprezzati i sistemi di pagamento elettronico. \n  \nTELEFONO. Per chiamare un cellulare italiano mentre si è nel Regno Unito\, anteporre ‘+39’ o ‘0039’ al numero. Nel Regno Unito vige il regolamento europeo ‘Roaming like at home’\, quindi gli operatori di rete mobile adottano le medesime tariffe applicate in Italia. \n  \nOROLOGIO. Il Regno Unito adotta l’ora di Greenwich: è quindi necessario spostare indietro le lancette dell’orologio di 1 ora in itinere tra Italia e Regno Unito e avanti di 1 ora in itinere tra Regno Unito e Italia. \n  \nPRESA ELETTRICA. Nel Regno Unito le prese mostrano un design unico e differente da tutto il resto del mondo\, o quasi: la struttura è dotata di tre contatti con sezione rettangolare. È necessario\, perciò\, munirsi di adattatore. \n  \nMANGIARE IN HOTEL E RISTORANTI. L’hotel e i ristoranti possono dedicare la massima attenzione alle nostre necessità dietetiche\, comprese quelle dei bambini o degli ospiti con allergie e|o intolleranze. È però fondamentale segnalare in agenzia\, al momento dell’iscrizione\, eventuali esigenze legate alla dieta alimentare per ricercare un’adeguata soluzione\, che comunque non può essere garantita dal fornitore; consigliamo dunque di cautelarsi autonomamente e preventivamente per disporre di integrazioni alimentari. I pasti si intendono a menu fisso o\, se previsto\, a buffet per tutto il gruppo e non sono contemplati variazioni e|o menu à la carte. Tavoli e posti a sedere specifici in ristorante non sono riservabili. \n  \nCAMERE. Non si garantisce l’occupazione di camere panoramiche\, comunicanti\, attigue\, allo stesso piano o a livello stradale. La sistemazione in camera doppia non sottintende la sistemazione con letto matrimoniale\, bensì una camera per due persone. Il letto matrimoniale\, anche se segnalato come preferenza\, non può mai essere garantito. La camera tripla prevede un letto aggiunto nella camera doppia: si tratta pertanto di una soluzione più adatta ai bambini\, che può risultare scomoda agli adulti. In ogni caso il terzo letto non comporta alcuna riduzione di prezzo. \n\n        \n \n\n\n            Cosa è compreso nella quota\n             \nVolo; 1 bagaglio da stiva max 20 kg e 1 bagaglio tipo under seat cabin bag max 40x30x20 cm da portare e bordo; trasferimento aeroporto-hotel-aeroporto all’arrivo a/partenza da Londra; bus privato per l’intera durata del tour dal 2° al 6° giorno; guida in italiano per l’intera durata del tour dal 2° al 6° giorno; hotel 3/4 stelle; 6 colazioni e 3 cene in hotel; ingressi al college di Oxford\, al Blenheim palace\, al Cream tea\, a una distilleria di gin con degustazione\, al Leeds castle e alla cattedrale di Cantenbury.  \n\n        \n\n            Cosa non è compreso nella quota\n             \nTransfers per|da l’aeroporto in Italia\, assicurazione annullamento viaggio\, 3 cene a Londra e tutti i pranzi\, eventuale tassa di soggiorno da versare agli hotel\, mance per guida e autista (25GBP ovvero 30€ circa a persona)\, facchinaggio e quanto non indicato alla voce ‘la quota comprende’.  \n\n        \n\n            Supplementi facoltativi\n             \nVicenza\, Noventa Vicentina\, Camera singola 550€; assicurazione annullamento per malattie e infortuni improvvisi 175€ per persona in camera doppia e 220€ in singola (da versare congiuntamente al 1° acconto). Utilizzo navetta da|per aeroporto di partenza e arrivo (servizio sotteso a un numero minimo di partecipanti): 49€ da Padova\, Mezzavia di Due Carrare\, Monselice\, Rovigo; 59€ da Giacciano con Baruchella\, Legnago\, Vicenza e Noventa Vicentina. \n\n        \n\n            Modalità di iscrizione al viaggio\n             \nL’iscrizione comporta il versamento contestuale di un acconto non rimborsabile di 650€ e la presentazione di un documento di identità. Il saldo è richiesto entro 30 gg. dalla partenza. \n\n        \n\n            Modalità di pagamento del viaggio\n             \nLa quota di partecipazione può essere corrisposta entro la data indicata attraverso il sito camviaggi.com\, con carta di credito a distanza (CNP)\, con bonifico bancario Iban: IT43Y0890462562032015008364 intestato a ‘CAM s.r.l.’\, con versamento in c|c postale 001014519068 intestato a ‘CAM s.r.l.’. In alternativa\, con carta di credito\, bancomat\, a|b o contante c|o le agenzie CAM. \n\n        \n\n            Regolamento di Viaggio\n             \nLa Direzione si riserva di apportare al programma eventuali modifiche per un più opportuno svolgimento del viaggio. L’iscrizione comporta la presa visione e l’accettazione di programma\, regolamento e norme vigenti. Organizzazione tecnica: C.A.M. VIAGGI di CAM s.r.l. Licenza 921 del 17.3.08 rilasciata dalla Provincia di Padova. Travel designer Alessia Barnes (alessia.barnes@camviaggi.com). \n\n        \n\n            Recapiti CAM per le prenotazioni\n             \nWeb camviaggi.com E-mail gruppi@camviaggi.com Sms|WhatsApp|Telegram 3480536012 Telefono 0429770993 \n\n        \n\n            Recapiti accompagnatore\n             \nL’incontro con la guida locale è fissato nella hall dell’hotel la mattina del 2° giorno. \n\n        \n\n            Assicurazioni\n             \nMedico-bagaglio\, R.C.T. Europ Assistance 4084313\, fondo di garanzia A|217.5482|1|2022|R.
URL:https://devel.camviaggi.com/event/le-cotswolds/
ATTACH;FMTTYPE=image/jpeg:https://devel.camviaggi.com/wp-content/uploads/2026/02/cotswolds2.jpg
END:VEVENT
BEGIN:VEVENT
DTSTART;TZID=Europe/Rome:20260618T000000
DTEND;TZID=Europe/Rome:20260621T000000
DTSTAMP:20260419T205920
CREATED:20260208T094802Z
LAST-MODIFIED:20260208T094802Z
UID:10003518-1781740800-1782000000@devel.camviaggi.com
SUMMARY:ISTANBUL
DESCRIPTION:Confermato: Posti disponibili\n\n\n    ISTANBUL\n\n\n     \nTRA SULTANI \nE MINARETI \n\n\n\n    \n        SCARICA IL PROGRAMMA DEL VIAGGIO\n    \n\n\n\n\n            \n        \n\n            Data/e del viaggio \n            Dal 18 al 21 giugno 2026\n        \n\n            Quota di partecipazione\n             \n1.140€ \n\n        \n\n            Orari e punti di partenza\n             \n\npark Penny Market strada Battaglia – \, ore: 5:30\npark Lidl v. Vittorio Veneto ang. v. C. Colombo – \, ore: 5:10\np.zza f.lli Cervi davanti hotel Cristallo – \, ore: 4:40\npark Il Faro area distributore carburanti – \, ore: 4:15\npark Ikea sotto insegna Ikea lato Pittarosso – \, ore: 6:00\naeroporto M. Polo area partenze 1° piano – \, ore: 6:40\npark IperTosano area Comet – \, ore: 4:00\npark casello Vicenza Est – \, ore: 5:40\npark casello autostradale – \, ore: 5:20\n\n\n        \n\n            Programma del viaggio\n             \n1° GIORNO: ISTANBUL – L’ORIENTE ABBRACCIA IL CIELOCi ritroviamo in aeroporto per disbrigare le formalità d’imbarco e partire con il volo di linea TK1868 alle ore 9:40\, destinazione Turchia. L’arrivo è previsto a Istanbul alle 14:15 (ora locale). Incontriamo la guida e raggiungiamo in bus il cuore della città. Il nostro itinerario prende il via con la visita alla maestosa moschea di Solimano il Magnifico\, capolavoro dell’architetto imperiale Mimar Sinan\, eretta su un colle che domina magnificamente il Corno d’Oro. Questo braccio di mare\, lungo 7 km e dalla forma arcuata\, separa la città in due anime: a Sud l’antica Bisanzio-Costantinopoli\, a Nord la colonia di Pera-Galata. Al termine della visita\, ci trasferiamo in hotel per la sistemazione nelle camere riservate\, la cena e il pernottamento. \n2° GIORNO: ISTANBUL – HAREM E MINARETIDopo la prima colazione in hotel\, ci immergiamo nella storia millenaria di Istanbul. Iniziamo dall’ippodromo\, cuore dell’antica Costantinopoli\, per poi lasciarci incantare dalla moschea Blu\, con i suoi minareti che si stagliano nel cielo\, e dalla grandiosa Santa Sofia\, sogno architettonico dell’imperatore Giustiniano. Dopo il pranzo in ristorante\, proseguiamo con la visita al palazzo Topkapi\, antica residenza dei sultani ottomani e oggi Patrimonio dell’Umanità UNESCO. Entriamo nell’harem\, luogo riservato e misterioso\, dove gravitano le leggendarie figure del sultano e delle concubine. Visitiamo anche Sant’Irene\, testimonianza della magnificenza imperiale\, e la suggestiva Cisterna basilica\, con le sue colonne immerse nell’acqua. Rientro in hotel per la cena\, ma… la giornata non finisce qui! Ci attende un’escursione serale nella vibrante piazza Taksim\, dominata dal monumento alla Repubblica. Passeggiamo lungo la scintillante via dell’Indipendenza\, la strada più frequentata della città\, animata da luci\, musica e vita\, prima del rientro in hotel per il pernottamento. \n3° GIORNO: ISTANBUL – MERCATI E MAREColazione in hotel e partenza per scoprire l’altra sponda del Corno d’Oro\, antico porto bizantino e ottomano. Visitiamo i quartieri storici di Balat e Fener\, oggi set di celebri fiction internazionali\, dove si erge il Patriarcato Ecumenico di Costantinopoli. Proseguiamo verso il Gran Bazaar\, il più grande mercato coperto al mondo\, con 61 strade e 4.000 negozi che attirano ogni giorno centinaia di migliaia di visitatori. Visitiamo la moschea di Rustem Pasha\, gioiello di ceramica e architettura voluto dalla sultana madre veneziana Sofia Bellucci Baffo. Immancabile la tappa al mercato delle spezie\, dove profumi e colori si mescolano in un vibrante caleidoscopio. Nel pomeriggioci attende una crociera sul Bosforo\, occasione unica per ammirare Istanbul dal mare\, tra le ville ottomane e scorci di vita quotidiana. Per cena ci attende un menu a base di pesce di un ristorante sul ponte di Galata\, con vista suggestiva sul via vai placido dei traghetti illuminati. Rientriamo infine in hotel per il pernottamento. \n4° GIORNO: ISTANBUL – ECHI GENOVESIDopo la colazione\, scendiamo per una passeggiata al Galataport\, un moderno complesso turistico e commerciale affacciato sul mare. Proseguiamo lungo via Istiklal\, l’arteria pulsante del distretto di Beyoğlu\, frequentata ogni giorno da milioni di persone. Qui si susseguono boutique\, librerie\, gallerie d’arte\, cinema\, teatri\, locali con musica dal vivo\, pasticcerie e ristoranti incastonati tra palazzi tardo-ottomani\, edifici della prima architettura nazionale e gemme Art Déco. Quando nel XIX secolo i viaggiatori europei definiscono Costantinopoli la ‘Parigi dell’Est’\, è proprio a questa strada che fanno riferimento! Visitiamo il mercato del pesce e la torre di Galata\, costruita da Rosso Doria\, primo governatore genovese della colonia. Pranzo in ristorante e\, in tempo utile\, ci trasferiamo in aeroporto per decollare con il volo TK1869 delle 17:20 (ora locale) per Venezia. L’arrivo è previsto alle 18:55\, prima di proseguire in navetta alle località di destinazione con chi ne ha richiesto il servizio. Il viaggio è finito\, ma Istanbul resta\, testimone di storie e sogni\, negli occhi e nei cuori. \n\n        \n\n            Appunti di Viaggio\n             \n  \nDA NON DIMENTICARE. Lo smartphone per le foto e per contattare l’accompagnatore in caso di necessità\, la power-bank per non rimanere senza carica. Per entrare in Turchia è necessario il passaporto o la carta di identità (in stato di perfetta integrità e valida per l’espatrio) con almeno cinque mesi di validità residua. \n  \nCOSA PORTARE. Un bagaglio da stiva di massimo 23 kg e misure standard più un bagaglio a mano di massimo 8 kg. \n  \nCOSA INDOSSARE. Abbigliamento a strati per un outfit a cipolla\, scarpe all’insegna della comodità. \n  \nTELEFONO. Per chiamare un cellulare italiano mentre si è in Turchia\, anteporre ‘+39’ o ‘0039’ al numero. In Turchia non vige il regolamento ‘Roaming like at home’\, quindi gli operatori di rete mobile adottano tariffe diverse da quelle applicate in Italia. Una delle opzioni più comuni per telefonare è acquistare una SIM dati locale. Un’altra opzione è utilizzare il wi-fi gratuito disponibile in hotel\, ristoranti\, caffè e centri commerciali. \n  \nMONETA. La Turchia non fa parte dell’UE e la moneta adottata è la lira turca: 1 TL corrisponde a 0\,03€ \n  \nOROLOGIO. ll fuso orario in Turchia è UTC|GMT +3 ore. Cioè l’ora in Turchia è 2 ore avanti rispetto l’Italia nei mesi invernali\, mentre nei mesi estivi è 1 ora avanti perchè il paese non segue più l’impostazione dell’ora legale. \n  \nPRESE ELETTRICHE. La presa turca è a due poli (tipo C) o Schuko (tipo F). Un’accortezza\, nel caso utilizzassimo spine a 3 poli\, è portare con sé un riduttore. Sempre utile l’adattatore universale. \n  \nMANGIARE. I punti di ristoro possono dedicare la massima attenzione alle nostre necessità dietetiche\, comprese quelle dei bambini o degli ospiti con allergie e|o intolleranze. È però fondamentale segnalare in agenzia\, al momento dell’iscrizione\, eventuali esigenze legate alla dieta alimentare per ricercare un’adeguata soluzione\, che comunque non può essere garantita dal fornitore; consigliamo dunque di cautelarsi autonomamente e preventivamente per disporre di integrazioni alimentari. I pasti si intendono a menu fisso o\, se previsto\, a buffet per tutto il gruppo e non sono contemplati variazioni e|o menu à la carte. Tavoli e posti a sedere in ristorante non sono riservabili. \n  \nCAMERE. Non si garantisce l’occupazione di camere comunicanti\, attigue\, allo stesso piano o a livello stradale. La sistemazione in camera doppia non sottintende la sistemazione con letto matrimoniale\, bensì una camera per due persone. Il letto matrimoniale\, anche se segnalato come preferenza\, non può mai essere garantito. La camera tripla prevede un letto aggiunto nella camera doppia: si tratta pertanto di una soluzione più adatta ai bambini\, che può risultare scomoda agli adulti. In ogni caso il terzo letto non comporta alcuna riduzione di prezzo. \n  \nADEGUAMENTO VALUTARIO E CARBURANTE. Eventuali adeguamenti valutari o incrementi del carburante sono comunicati\, come da regolamento\, entro 21 gg. prima della data di partenza. Il pacchetto dei servizi è acquistato in euro. \n\n        \n \n\n\n            Cosa è compreso nella quota\n             \nTrasporto con voli di linea Turskish Airlines da Venezia; trasporto in franchigia 23 kg con un solo bagaglio in stiva e 8 kg con bagaglio a mano; transfers interni in bus come da programma; hotel 4* (categoria locale); pensione completa dalla cena del giorno d’arrivo al pranzo dell’ultimo giorno (menu turistici) con 0\,50 l di acqua minerale a pasto a persona; cena di pesce in ristorante sul Bosforo; guida|accompagnatore\, auricolari e radioguide; ingressi alla moschea di Solimano il Magnifico\, all’ippodromo\, alla moschea Blu\, alla Cisterna basilica\, alla moschea di Santa Sofia\, al palazzo di Topkapi e all’harem del Sultano; crociera sul Bosforo; escursioni a Balat e Fener; documenti di viaggio. \n\n        \n\n            Cosa non è compreso nella quota\n             \nTrasferimento da|per aeroporto di Venezia\, assicurazione annullamento\, facchinaggio\, mance (obbligatorie 25€ a persona da consegnare in loco alla guida)\, bevande extra e  quanto non indicato alla voce ‘la quota comprende’. \n\n        \n\n            Supplementi facoltativi\n             \nCamera singola 215€; eventuale assicurazione annullamento per malattie e infortuni improvvisi 92€ per persona in camera doppia e 109€ in singola (da versare congiuntamente all’acconto). Utilizzo navetta da|per aeroporto di partenza e arrivo (servizio sotteso a un numero minimo di partecipanti): 49€ da Padova\, Mezzavia di Due Carrare\, Monselice\, Rovigo\, Vicenza o Noventa Vicentina\, 59€ da Giacciano con Baruchella o Legnago. \n\n        \n\n            Modalità di iscrizione al viaggio\n             \nL’iscrizione comporta il versamento contestuale di un acconto non rimborsabile di 350€ e la presentazione del passaporto|carta d’identità valida per l’espatrio. Il saldo è richiesto entro 30 gg. dalla partenza. \n\n        \n\n            Modalità di pagamento del viaggio\n             \nLa quota di partecipazione può essere corrisposta entro la data indicata attraverso il sito camviaggi.com\, con carta di credito a distanza (CNP)\, con bonifico bancario Iban: IT43Y0890462562032015008364 intestato a ‘CAM s.r.l.’\, con versamento in c|c postale 001014519068 intestato a ‘CAM s.r.l.’. In alternativa\, con carta di credito\, bancomat\, a|b o contante c|o le agenzie CAM. \n\n        \n\n            Regolamento di Viaggio\n             \nLa Direzione si riserva di apportare al programma eventuali modifiche per un più opportuno svolgimento del viaggio. L’iscrizione comporta la presa visione e l’accettazione di programma\, regolamento e norme vigenti. Organizzazione tecnica: C.A.M. VIAGGI di CAM s.r.l. Licenza 921 del 17.3.08 rilasciata dalla Provincia di Padova. Travel designer Alessia Barnes (alessia.barnes@camviaggi.com). \n\n        \n\n            Recapiti CAM per le prenotazioni\n             \nWeb camviaggi.com E-mail gruppi@camviaggi.com Sms|WhatsApp|Telegram 3480536012 Telefono 0429770993 \n\n        \n\n            Recapiti accompagnatore\n             \nUn assistente aeroportuale esclusivo è presente a Venezia per le operazioni di check-in|imbarco (il recapito viene comunicato con i documenti di viaggio). L’incontro con l’accompagnatore|guida è fissato all’aeroporto d’arrivo. \n\n        \n\n            Assicurazioni\n             \nMedico-bagaglio\, fondo di garanzia A|217.5482|1|2022|R.
URL:https://devel.camviaggi.com/event/istanbul-2/
ATTACH;FMTTYPE=image/jpeg:https://devel.camviaggi.com/wp-content/uploads/2026/02/30438_20220411093926_TURCHIA2-3.jpg
END:VEVENT
END:VCALENDAR