BEGIN:VCALENDAR
VERSION:2.0
PRODID:-//Cam Viaggi | Agenzia Viaggi e Tour Operator - ECPv6.15.11//NONSGML v1.0//EN
CALSCALE:GREGORIAN
METHOD:PUBLISH
X-WR-CALNAME:Cam Viaggi | Agenzia Viaggi e Tour Operator
X-ORIGINAL-URL:https://devel.camviaggi.com
X-WR-CALDESC:Eventi per Cam Viaggi | Agenzia Viaggi e Tour Operator
REFRESH-INTERVAL;VALUE=DURATION:PT1H
X-Robots-Tag:noindex
X-PUBLISHED-TTL:PT1H
BEGIN:VTIMEZONE
TZID:Europe/Rome
BEGIN:DAYLIGHT
TZOFFSETFROM:+0100
TZOFFSETTO:+0200
TZNAME:CEST
DTSTART:20250330T010000
END:DAYLIGHT
BEGIN:STANDARD
TZOFFSETFROM:+0200
TZOFFSETTO:+0100
TZNAME:CET
DTSTART:20251026T010000
END:STANDARD
BEGIN:DAYLIGHT
TZOFFSETFROM:+0100
TZOFFSETTO:+0200
TZNAME:CEST
DTSTART:20260329T010000
END:DAYLIGHT
BEGIN:STANDARD
TZOFFSETFROM:+0200
TZOFFSETTO:+0100
TZNAME:CET
DTSTART:20261025T010000
END:STANDARD
BEGIN:DAYLIGHT
TZOFFSETFROM:+0100
TZOFFSETTO:+0200
TZNAME:CEST
DTSTART:20270328T010000
END:DAYLIGHT
BEGIN:STANDARD
TZOFFSETFROM:+0200
TZOFFSETTO:+0100
TZNAME:CET
DTSTART:20271031T010000
END:STANDARD
END:VTIMEZONE
BEGIN:VEVENT
DTSTART;TZID=Europe/Rome:20260802T000000
DTEND;TZID=Europe/Rome:20260902T000000
DTSTAMP:20260420T001232
CREATED:20260208T094806Z
LAST-MODIFIED:20260208T094806Z
UID:10003522-1785628800-1788307200@devel.camviaggi.com
SUMMARY:AZERBAIJAN
DESCRIPTION:Confermato: Posti disponibili\n\n\n    AZERBAIJAN\n\n\n     \nE GEORGIA \nIL CAUCASO \n\n\n\n    \n        SCARICA IL PROGRAMMA DEL VIAGGIO\n    \n\n\n\n\n            \n        \n\n            Data/e del viaggio \n            Dal 2 al 9 agosto 2026\n        \n\n            Quota di partecipazione\n             \n2.270€ \n\n        \n\n            Orari e punti di partenza\n             \n\npark Penny Market strada Battaglia – \, ore: 5:10\npark Lidl v. Vittorio Veneto ang. v. C. Colombo – \, ore: 4:40\np.zza f.lli Cervi davanti hotel Cristallo – \, ore: 4:10\npark Il Faro area distributore carburanti – \, ore: 3:45\npark Ikea sotto insegna Ikea lato Pittarosso – \, ore: 5:30\naeroporto M. Polo area partenze 1° piano – \, ore: 6:20\npark IperTosano area Comet – \, ore: 3:30\npark casello Vicenza Est – \, ore: 5:10\npark casello autostradale – \, ore: 4:40\n\n\n        \n\n            Programma del viaggio\n             \n \n1° GIORNO: VERSO IL CAUCASO \nCi lasciamo alle spalle la laguna\, decollando alle 9:20 da Tessera per Istanbul\, dove atterriamo alle 12:55 (ora locale) per ridecollare alle 16:00 (ora locale) per l’Azerbaijan. Atterriamo alle 19:50 (ora locale) a Baku con la sera che ci accoglie con il suo respiro caldo. Ci sentiamo parte di un racconto che inizia finché raggiungiamo l’hotel per la cena e il pernottamento. \n \n2° GIORNO: BAKU \nDopo colazione\, la capitale e città tra le più antiche della Transcaucasia ci svela i suoi segreti dall’alto del Parco Montano che raggiungiamo in funicolare: la baia scintilla come uno specchio d’argento\, i minareti si innalzano come preghiere di pietra. Dopo il pranzo in ristorante\, nel palazzo Shirvan Shah ascoltiamo il silenzio dei secoli mentre sulla torre della Fanciulla saliamo verso un cielo che ci abbraccia. Continuiamo con la visita del museo del Tappeto e\, dopo la cena in ristorante\, ci muoviamo per un giro serale teso ad ammirare Baku vestita di fuoco e luce: le Flame towers ardono come fiamme danzanti e noi ci lasciamo incantare prima di guadagnare l’hotel per il pernottamento. \n \n3° GIORNO: LA PENISOLA DI ABSHERON E GOBUSTAN (170 km) \nDopo colazione\, ci spostiamo verso la penisola di Absheron\, la terra del sacro fuoco. A Surakyhany visitiamo il tempio del Sacro Fuoco e a Makhammady ammiriamo le colline che sputano fiamme come racconta Marco Polo nel ‘Milione’. Ma è a YanarDag che il fuoco scorre come un respiro eterno e ci sembra di toccare il cuore della terra. Dopo il pranzo in ristorante\, la riserva del Gobustan ci racconta eventi preistorici incisi nella roccia: cacciatori\, danze\, scene di una vita lontanissima nel tempo. I vulcani di fango ribollono come pensieri inquieti e noi sorridiamo davanti a questo miracolo della natura\, prima di rientrare a Baku per una cena tipica allietata da uno spettacolo folk azero. La notte riposiamo in hotel. \n \n4° GIORNO: SHEMAKHA E SHEKI (300 km) \nDopo la colazione\, scendiamo sulla strada per Sheki\, che si snoda tra montagne e memorie. A Shemakha\, l’antica capitale ai piedi della catena del Grande Caucaso\, ci fermiamo per il pranzo e ammiriamo la moschea Juma e il mausoleo delle Sette Cupole\, luogo di sepoltura dei reali di Shirvan Shah. Arrivati a Sheki\, pellegrini sulla Via della Seta\, custodi di un passato che è ancora tra noi\, ci fermiamo per la cena in ristorante e il pernottamento in hotel. \n \n5° GIORNO: DALL’AZERBAIJAN ALLA GEORGIA (250 km) \nNel bazaar di Sheki ci perdiamo\, dopo colazione\, tra colori e profumi\, mentre il palazzo del Khan ci regala vetrate che brillano come gemme e affreschi infiniti. Dopo il palazzo Caravansary\, sulla riva del Gurjanachai\, il confine si apre davanti a noi: lasciamo l’Azerbaijan e la Georgia ci accoglie con le sue colline\, insieme a un nuovo bus e alla guida georgiana. Tbilisi ci abbraccia al tramonto e noi ci sediamo a tavola in ristorante prima di guadagnare il nostro hotel per il pernottamento. \n \n6° GIORNO: GORI\, UPLISTSIKHE E MTSKHETA (200 km) \nDopo la colazione\, partiamo per la regione di ShidaKartli\, cuore della Georgia: la prima tappa è Gori\, cittadina che dà i natali a Stalin. Visitiamo il museo dedicato al leader sovietico\, ma presto ci lasciamo rapire dalla città di pietra di Uplistsikhe\, dove il vento sembra ancora portare voci antiche. A Mtskheta\, chiese e monasteri patrimonio dell’umanità ci parlano di fede e di eternità. Visitiamo lo Svetiskhavell e lo Jvari prima di rientrare a Tbilisi e cenare trascinati da musica e danze georgiane. Infine eccoci in hotel per il pernottamento. \n \n7° GIORNO: TBILISI \nLa capitale ci accoglie dopo colazione con le sue strade tortuose e i bagni sulfurei che fumano come sogni. La visita alla chiesa di Metekhi\, sulla sponda destra del Mtkvari\, precede il pranzo e la visita alla fortezza Narikala\, che raggiungiamo in funivia per poi scendere a piedi: da lassù Tbilisi si distende come un tappeto di storie. Le chiese antiche ci sussurrano parole di pietra\, il museo nazionale ci mostra tesori che brillano di filigrane d’oro come stelle sepolte. La sera ci ritroviamo insieme a raccontarci le nostre emozioni durante la cena in hotel\, prima dl pernottamento.  \n \n8° GIORNO: RIENTRO \nSalutiamo Tbilisi. L’aereo decolla alle 11:10 (ora locale) per Istanbul\, dove atterriamo alle 12:50 (ora locale) per ridecollare alle 17:25 (ora locale) verso Venezia. Atterriamo definitivamente alle 19:00 per rientrare alle nostre località in navetta\, con chi ne ha richiesto il servizio\, ma dentro di noi rimane il canto del Caucaso: fuoco e pietra\, danza e silenzio\, memorie e sogni. Torniamo a casa\, ma sappiamo che un frammento di noi resterà sempre là\, tra le montagne e le fiamme eterne. \n\n        \n\n            Appunti di Viaggio\n             \nCOSA INDOSSARE. Abbigliamento informale\, scarpe all’insegna della comodità. \n  \nTELEFONO. Per chiamare un cellulare italiano mentre si è in Azerbaijan o Georgia anteporre ‘+39’ o ‘0039’ al numero. In Azerbaijan e Georgia non vige il regolamento ‘Roaming like at home’\, quindi gli operatori di rete mobile non adottano le medesime tariffe applicate in Italia. \n  \nMONETA. In Azerbaijan circola il manat (1 manat corrisponde a 0\,57 euro) mentre in Georgia il lari (1 lari corrisponde a 0\,34 euro) ca. \n  \nOROLOGIO. Azerbaijan e Georgia non adottano lo stesso orario dell’Italia. In itinere dall’Italia portare le lancette avanti di 3 ore. \n  \nPRESE ELETTRICHE. Le prese elettriche utilizzate in Azerbaijan e Georgia sono quelle di tipo C\, come le italiane\, o di tipo F\, come le tedesche. Pertanto non si necessita di alcun adattatore per apparecchi con due spine. \n  \nMANGIARE. I punti di ristoro possono dedicare la massima attenzione alle nostre necessità dietetiche\, comprese quelle dei bambini o degli ospiti con allergie e|o intolleranze. È però fondamentale segnalare in agenzia\, al momento dell’iscrizione\, eventuali esigenze legate alla dieta alimentare per ricercare un’adeguata soluzione\, che comunque non può essere garantita dal fornitore; consigliamo dunque di cautelarsi autonomamente e preventivamente per disporre di integrazioni alimentari. I pasti si intendono a menu fisso o\, se previsto\, a buffet per tutto il gruppo e non sono contemplati variazioni e|o menu à la carte. Tavoli e posti a sederespecifici in ristorante non sono riservabili. \n  \nCAMERE. Non si garantisce l’occupazione di camere comunicanti\, attigue\, allo stesso piano o a livello stradale. La sistemazione in camera doppia non sottintende la sistemazione con letto matrimoniale\, bensì una camera per due persone. Il letto matrimoniale\, anche se segnalato come preferenza\, non può mai essere garantito. La camera tripla prevede un letto aggiunto nella camera doppia: si tratta pertanto di una soluzione più adatta ai bambini\, che può risultare scomoda agli adulti. In ogni caso il terzo letto non comporta alcuna riduzione di prezzo. \n  \nADEGUAMENTO VALUTARIO E CARBURANTE. Eventuali adeguamenti valutari o incrementi del carburante sono comunicati\, come da regolamento\, entro 21 gg. prima della data di partenza. Il pacchetto dei servizi è acquistato in euro. \n\n        \n \n\n\n            Cosa è compreso nella quota\n             \nVoli di linea Turkish Airlines da Venezia; visto e-visa azero; 1 bagaglio in stiva massimo 23 kg e 1 bagaglio a mano max 8 kg; trasporti interni in bus e funivia; hotel 4|5 stelle; pensione completa dalla cena del 1° alla colazione dell’ultimo giorno con 0\,33 l di acqua minerale a pasto\, caffè e tè; cene con spettaolo folk a Baku e Tbilisi; visite e ingressi come da programma; accompagnatori|guide. \n\n        \n\n            Cosa non è compreso nella quota\n             \nTrasferimento da|per aeroporto di Venezia\, assicurazione annullamento\, facchinaggio\, mance (obbligatorie 50€ a persona da consegnare in loco alla guida\, 25€ alla guida azera e 25€ alla guida georgiana)\, bevande extra e quanto non indicato alla voce ‘la quota comprende’. \n\n        \n\n            Supplementi facoltativi\n             \nCamera singola 335€; eventuale assicurazione annullamento per malattie e infortuni improvvisi 184€ per persona in camera doppia e 211€ in singola (da versare congiuntamente all’acconto). Utilizzo navetta da|per aeroporto di partenza e arrivo (servizio sotteso a un numero minimo di partecipanti): 49€ da Padova\, Mezzavia di Due Carrare\, Monselice\, Rovigo o Vicenza\, 59€ da Giacciano con Baruchella\, Legnago o Noventa Vicentina. \n\n        \n\n            Modalità di iscrizione al viaggio\n             \nL’iscrizione comporta il versamento contestuale di un acconto non rimborsabile di 680€ e la presentazione del passaporto valido per l’espatrio. Il saldo è richiesto entro 30 gg. dalla partenza. \n\n        \n\n            Modalità di pagamento del viaggio\n             \nLa quota di partecipazione può essere corrisposta entro la data indicata attraverso il sito camviaggi.com\, con carta di credito a distanza (CNP)\, con bonifico bancario Iban: IT43Y0890462562032015008364 intestato a ‘CAM s.r.l.’\, con versamento in c|c postale 001014519068 intestato a ‘CAM s.r.l.’. In alternativa\, con carta di credito\, bancomat\, a|b o contante c|o le agenzie CAM. \n\n        \n\n            Regolamento di Viaggio\n             \nLa Direzione si riserva di apportare al programma eventuali modifiche per un più opportuno svolgimento del viaggio. L’iscrizione comporta la presa visione e l’accettazione di programma\, regolamento e norme vigenti. Organizzazione tecnica: C.A.M. VIAGGI di CAM s.r.l. Licenza 921 del 17.3.08 rilasciata dalla Provincia di Padova. Travel designer Alessia Barnes (alessia.barnes@camviaggi.com). \n\n        \n\n            Recapiti CAM per le prenotazioni\n             \nWeb camviaggi.com E-mail gruppi@camviaggi.com Sms|WhatsApp|Telegram 3480536012 Telefono 0429770993 \n\n        \n\n            Recapiti accompagnatore\n             \nUn assistente aeroportuale esclusivo è presente a Venezia per le operazioni di check-in|imbarco (il recapito viene comunicato con i documenti di viaggio). L’incontro con l’accompagnatore|guida è fissato all’aeroporto d’arrivo. \n\n        \n\n            Assicurazioni\n             \nMedico-bagaglio\, fondo di garanzia A|217.5482|1|2022|R.
URL:https://devel.camviaggi.com/event/azerbaijan/
ATTACH;FMTTYPE=image/jpeg:https://devel.camviaggi.com/wp-content/uploads/2026/02/istockphoto-104634375-612x612-1.jpg
END:VEVENT
END:VCALENDAR