BEGIN:VCALENDAR
VERSION:2.0
PRODID:-//Cam Viaggi | Agenzia Viaggi e Tour Operator - ECPv6.15.11//NONSGML v1.0//EN
CALSCALE:GREGORIAN
METHOD:PUBLISH
X-WR-CALNAME:Cam Viaggi | Agenzia Viaggi e Tour Operator
X-ORIGINAL-URL:https://devel.camviaggi.com
X-WR-CALDESC:Eventi per Cam Viaggi | Agenzia Viaggi e Tour Operator
REFRESH-INTERVAL;VALUE=DURATION:PT1H
X-Robots-Tag:noindex
X-PUBLISHED-TTL:PT1H
BEGIN:VTIMEZONE
TZID:Europe/Rome
BEGIN:DAYLIGHT
TZOFFSETFROM:+0100
TZOFFSETTO:+0200
TZNAME:CEST
DTSTART:20230326T010000
END:DAYLIGHT
BEGIN:STANDARD
TZOFFSETFROM:+0200
TZOFFSETTO:+0100
TZNAME:CET
DTSTART:20231029T010000
END:STANDARD
BEGIN:DAYLIGHT
TZOFFSETFROM:+0100
TZOFFSETTO:+0200
TZNAME:CEST
DTSTART:20240331T010000
END:DAYLIGHT
BEGIN:STANDARD
TZOFFSETFROM:+0200
TZOFFSETTO:+0100
TZNAME:CET
DTSTART:20241027T010000
END:STANDARD
BEGIN:DAYLIGHT
TZOFFSETFROM:+0100
TZOFFSETTO:+0200
TZNAME:CEST
DTSTART:20250330T010000
END:DAYLIGHT
BEGIN:STANDARD
TZOFFSETFROM:+0200
TZOFFSETTO:+0100
TZNAME:CET
DTSTART:20251026T010000
END:STANDARD
END:VTIMEZONE
BEGIN:VEVENT
DTSTART;TZID=Europe/Rome:20240525T000000
DTEND;TZID=Europe/Rome:20240525T000000
DTSTAMP:20260424T054907
CREATED:20240527T062249Z
LAST-MODIFIED:20240527T062249Z
UID:10003246-1716595200-1716595200@devel.camviaggi.com
SUMMARY:IL PONALE
DESCRIPTION:Confermato: Posti disponibili\n\n\n    IL PONALE\n\n\n     \nSENTIERO \nSUL GARDA \n\n\n\n    \n        SCARICA IL PROGRAMMA DEL VIAGGIO\n    \n\n\n\n\n            \n        \n\n            Data/e del viaggio \n            Sabato 25 maggio 2024\n        \n\n            Quota di partecipazione\n             \n55€ (adulto)50€ (under 12) \n\n        \n\n            Orari e punti di partenza\n             \n\npark Penny Market strada Battaglia – Mezzavia di Due Carrare\, ore: 6:30\npark Lidl v. Vittorio Veneto ang. v. C. Colombo – Monselice\, ore: 6:50\np.zza f.lli Cervi davanti hotel Cristallo – Rovigo\, ore: 7:20\npark Il Faro area distributore carburanti – Giacciano con Baruchella\, ore: 7:45\npark Ikea sotto insegna Ikea lato Pittarosso – Padova\, ore: 6:00\npark IperTosano area Comet – Legnago\, ore: 8:00\n\n\n        \n\n            Programma del viaggio\n             \nIl Ponale è un torrente che ha origine dal lago di Ledro\, si immette nel lago di Garda e dà il nome a una passeggiata che congiunge la cittadina la val di Ledro alla cittadina di Riva\, lungo un tracciato molto antico\, ricavato nella roccia già da metà Ottocento. Percorrerlo significa esporsi a panorami spettacolari\, impressionanti per lo sviluppo a picco sul lago\, con la roccia imponente da una parte e il blu sconfinato all’altra. Un’emozione che si rinnova galleria dopo galleria\, a ogni curva\, a ogni strapiombo: bellissime le visuali sulla piana del Sarca\, sui monti Brione e Baldo che si stagliano sulla sponda opposta. Dai 655m s.l.m. del lago in località Molina\, scendiamo immersi in una valle sospesa di straordinaria bellezza. Incrociamo i resti della Tagliata\, fortificazione realizzata dagli austriaci a partire dal 1860\, costituita da cunicoli scavati nella pietra e trincee che si spingono dallo specchio d’acqua fino alle postazioni che dominano dall’alto. I cartelli con notizie storiche e informazioni sulla flora e la fauna del lago punteggiano il sentiero noto per ricamare una natura d’incomparabile suggestione. L’unico dislivello sensibile è presente mentre si attraversa il bosco prima di avvicinarsi al Garda\, dove la pendenza è davvero dolce; nemmeno ci si rende conto di non essere in piano. Eccoci a Riva\, 66 m s.l.m.\, dove una passeggiata lungo le viuzze del centro\, dominato dall’alta torre Apponale\, precede la nostra ripartenza verso le località di destinazione. \n\n        \n\n            Appunti di Viaggio\n             \nDA NON DIMENTICARE. La carta d’identità\, lo smartphone per le foto e per contattare l’accompagnatore in caso di necessità\, la power-bank per non rimanere senza carica. \nCOSA INDOSSARE. Si consiglia un vestiario confortevole utile a trascorrere un giorno all’aperto. Importanti le scarpe\, che devono essere adatte a sentieri con disivelli\, pietre\, sassi o magari acqua. Non indispensabili\, ma utili e fashion\, i bastoncini da trekking. Lo zainetto o un marsupio sono certamente più idonei di una tracolla. \nPAUSA PRANZO. Spettacolare fermarsi per un pic-nic con il pranzo al sacco (nel caso è utile portare con sé un asciugamano leggero in microfibra). \nPERCORSO. Il sentiero è di 10 km\, presenta un dislivello di 600 m e si percorre generalmente in 3 ore. \n\n        \n \n\n\n            Cosa è compreso nella quota\n             \nBus\, assistenza accompagnatore CAM. \n\n        \n\n            Cosa non è compreso nella quota\n             \nPasti\, ingressi e quanto non indicato alla voce ‘la quota comprende’. \n\n        \n\n            Supplementi facoltativi\n             \nNessuno. \n\n        \n\n            Modalità di iscrizione al viaggio\n             \nRilascio nomi e cognomi partecipanti e punto di partenza prescelto. Non è richiesto acconto. \n\n        \n\n            Modalità di pagamento del viaggio\n             \nLa quota di partecipazione può essere corrisposta entro la data indicata attraverso il sito camviaggi.com\, con carta di credito a distanza (CNP)\, con bonifico bancario Iban: IT43Y0890462562032015008364 intestato a ‘CAM s.r.l.’\, con versamento in c|c postale 001014519068 intestato a ‘CAM s.r.l.’. In alternativa\, con carta di credito\, bancomat\, a|b o contante c|o le agenzie CAM. \n\n        \n\n            Regolamento di Viaggio\n             \nLa Direzione si riserva di apportare al programma eventuali modifiche per un più opportuno svolgimento del viaggio. L’iscrizione comporta la presa visione e l’accettazione di programma\, regolamento e norme vigenti. Organizzazione tecnica: C.A.M. VIAGGI di CAM s.r.l. Licenza 921 del 17.3.08 rilasciata dalla Provincia di Padova. Travel designer Anna Venturin (anna.venturin@camviaggi.com). \n\n        \n\n            Recapiti CAM per le prenotazioni\n             \nWeb camviaggi.com E-mail gruppi@camviaggi.com Sms|WhatsApp|Telegram 3480536012 Telefono 0429770993 \n\n        \n\n            Recapiti accompagnatore\n             \n+ 39 348 5702088(attivo 30′ prima del tour). \n\n        \n\n            Assicurazioni\n             \nR.C.T. Europ Assistance 4084313\, fondo di garanzia A|217.5482|1|2022|R.
URL:https://devel.camviaggi.com/event/il-ponale/
ATTACH;FMTTYPE=image/jpeg:https://devel.camviaggi.com/wp-content/uploads/2024/05/Ponale-14.jpg
END:VEVENT
BEGIN:VEVENT
DTSTART;TZID=Europe/Rome:20240525T000000
DTEND;TZID=Europe/Rome:20240525T000000
DTSTAMP:20260424T054907
CREATED:20240527T062249Z
LAST-MODIFIED:20240527T062249Z
UID:10003247-1716595200-1716595200@devel.camviaggi.com
SUMMARY:DUOMO DI MILANO
DESCRIPTION:Confermato: Posti disponibili\n\n\n    DUOMO DI MILANO\n\n\n     \nLE TERRAZZE \nE IL MUSEO \n\n\n\n    \n        SCARICA IL PROGRAMMA DEL VIAGGIO\n    \n\n\n\n\n            \n        \n\n            Data/e del viaggio \n            Sabato 25 maggio 2024\n        \n\n            Quota di partecipazione\n             \n89€ (adulto)84€ (under 12) \n\n        \n\n            Orari e punti di partenza\n             \n\npark Penny Market strada Battaglia – Mezzavia di Due Carrare\, ore: 5:30\npark Lidl v. Vittorio Veneto ang. v. C. Colombo – Monselice\, ore: 5:50\np.zza f.lli Cervi davanti hotel Cristallo – Rovigo\, ore: 6:20\npark Il Faro area distributore carburanti – Giacciano con Baruchella\, ore: 6:45\npark Ikea sotto insegna Ikea lato Pittarosso – Padova\, ore: 5:00\npark IperTosano area Comet – Legnago\, ore: 7:00\n\n\n        \n\n            Programma del viaggio\n             \nRitrovo dei signori partecipanti al punto di partenza rilasciato all’iscrizione e incontro con l’accompagnatore CAM per muoverci verso Milano\, dove una bella passeggiata monumentale ci conduce al duomo\, luogo d’incontro con la guida per la visita a un monumento simbolo dell’Italia\, sito privilegiato d’arte e preghiera. L’esterno è celebre e iconico ma\, caratterizzato da una sorprendente ricchezza della decorazione statuaria\, l’interno è solenne con le maestose navate scandite da altissimi pilastri in stile gotico lombardo. Il percorso di visita si snoda attraverso storie e curiosità e con la salita in ascensore per la visita delle terrazze\, che vantano un’immensa superficie di 8.000 mq coperta con lastre di marmo di Condoglia. Lassù siamo vicini alla famosa Madonnina dorata che dall’alto protegge Milano. Dalle terrazze è possibile ammirare le vette più alte della città\, tra cui il grattacielo di Cadorna\, la torre Branca e l’antenna RAI. Imprescindibile l’ingresso al museo del Duomo\, che ha sede all’interno del vicino palazzo Reale\, per conoscere da vicino la secolare storia costruttiva dell’edificio. Il percorso espositivo ci consente di ammirare manufatti e opere d’arte di varie epoche\, tra statue\, vetrate\, dipinti\, arazzi\, modelli architettonici\, terrecotte\, gessi\, e fa emergere la straordinaria coralità di linguaggi artistici differenti intervenuta nella costruzione della cattedrale. Il pranzo è libero e il pomeriggio a disposizione per lo shopping nel quadrilatero della moda o le visite individuali tra le splendide vie del centro\, verso la galleria Vittorio Emanuele II\, il teatro alla Scala e il castello Sforzesco. In tempo utile\, ci sistemiamo in bus e partiamo per il viaggio di rientro con l’arrivo previsto in serata alle nostre località di destinazione. \n\n        \n\n            Appunti di Viaggio\n             \nDA NON DIMENTICARE. La carta d’identità\, lo smartphone per le foto e per contattare l’accompagnatore in caso di necessità\, la power-bank per non rimanere senza carica. \nCOSA INDOSSARE. Si consiglia un outfit confortevole\, con pantaloni tipo jeans o joggers. Sconsigliate calzature nuove e assolutamente da evitare suole lisce per salire le scale che ricamano le terrazze. È preferibile sostituire la borsa a tracolla con uno zainetto. \nPAUSA PRANZO. Per la pausa pranzo a Milano si presenta solo l’imbarazzo della scelta tra le più note catene di fast-food internazionali\, le pizzerie al taglio e\, perché no\, le caffetterie e i locali alla moda con i dehors aperti sulle zone esclusive della città. \nCURIOSITÀ. Il duomo di Milano è la quinta chiesa più grande del mondo: la superano solamente la basilica di San Pietro nella Città del Vaticano\, la basilica di Nostra Signora di Aparecida in Brasile\, la cattedrale di San Giovanni Divino a New York City negli U.S.A. e la cattedrale di Siviglia in Spagna. Lungo 157 m\, può ospitare 40.000 persone ed è in assoluto la chiesa in stile gotico più grande che esista\, oltre a rappresentare l’edificio che ospita il più alto numero di statue al mondo: ben 3.400. La sua edificazione dura oltre mezzo millennio\, dal 1386\, è a tutt’oggi in corso! \n  \nSAN GOTTARDO IN CORTE. Un grande restauro portato a termine dalla Veneranda Fabbrica del Duomo ridona a San Gottardo la riscoperta di emozioni celate dal tempo. Questo restauro\, che completa il grande riallestimento del museo del Duomo sanando una ferita nel cuore del palazzo Reale\, è un risultato che possiamo apprezzare utilizzando il nostro biglietto cumulativo. \n\n        \n \n\n\n            Cosa è compreso nella quota\n             \nBus\, ingressi al duomo\, alle terrazze (con utilizzo degli ascensori in salita e discesa)\, al museo del Duomo e alla chiesa di San Gottardo\, guida\, servizio radioguide con auricolari\, assistenza accompagnatore CAM. \n\n        \n\n            Cosa non è compreso nella quota\n             \nPasti e quanto non indicato alla voce ‘la quota comprende’. \n\n        \n\n            Supplementi facoltativi\n             \nNessuno. \n\n        \n\n            Modalità di iscrizione al viaggio\n             \nRilascio nomi e cognomi partecipanti e punto di partenza prescelto. Non è richiesto acconto. \n\n        \n\n            Modalità di pagamento del viaggio\n             \nLa quota di partecipazione può essere corrisposta entro la data indicata attraverso il sito camviaggi.com\, con carta di credito a distanza (CNP)\, con bonifico bancario Iban: IT43Y0890462562032015008364 intestato a ‘CAM s.r.l.’\, con versamento in c|c postale 001014519068 intestato a ‘CAM s.r.l.’. In alternativa\, con carta di credito\, bancomat\, a|b o contante c|o le agenzie CAM. \n\n        \n\n            Regolamento di Viaggio\n             \nLa Direzione si riserva di apportare al programma eventuali modifiche per un più opportuno svolgimento del viaggio. L’iscrizione comporta la presa visione e l’accettazione di programma\, regolamento e norme vigenti. Organizzazione tecnica: C.A.M. VIAGGI di CAM s.r.l. Licenza 921 del 17.3.08 rilasciata dalla Provincia di Padova. Travel designer Anna Venturin (anna.venturin@camviaggi.com). \n\n        \n\n            Recapiti CAM per le prenotazioni\n             \nWeb camviaggi.com E-mail gruppi@camviaggi.com Sms|WhatsApp|Telegram 3480536012 Telefono 0429770993 \n\n        \n\n            Recapiti accompagnatore\n             \n+ 39 388 9539645(attivo 30′ prima del tour). \n\n        \n\n            Assicurazioni\n             \nR.C.T. Europ Assistance 4084313\, fondo di garanzia A|217.5482|1|2022|R.
URL:https://devel.camviaggi.com/event/duomo-di-milano/
ATTACH;FMTTYPE=image/jpeg:https://devel.camviaggi.com/wp-content/uploads/2024/05/Milano.Duomo_-28.jpg
END:VEVENT
BEGIN:VEVENT
DTSTART;TZID=Europe/Rome:20240519T000000
DTEND;TZID=Europe/Rome:20240519T000000
DTSTAMP:20260424T054907
CREATED:20240517T150656Z
LAST-MODIFIED:20240517T150656Z
UID:10003245-1716076800-1716076800@devel.camviaggi.com
SUMMARY:TORINO
DESCRIPTION:Confermato: Posti disponibili\n\n\n    TORINO\n\n\n     \nE LA SACRA \nDI S. MICHELE \n\n\n\n    \n        SCARICA IL PROGRAMMA DEL VIAGGIO\n    \n\n\n\n\n            \n        \n\n            Data/e del viaggio \n            Domenica 19 maggio 2024\n        \n\n            Quota di partecipazione\n             \n95€ (adulto)90€ (under 12) \n\n        \n\n            Orari e punti di partenza\n             \n\npark Penny Market strada Battaglia – Mezzavia di Due Carrare\, ore: 4:30\npark Lidl v. Vittorio Veneto ang. v. C. Colombo – Monselice\, ore: 4:50\np.zza f.lli Cervi davanti hotel Cristallo – Rovigo\, ore: 5:20\npark Il Faro area distributore carburanti – Giacciano con Baruchella\, ore: 5:45\npark Ikea sotto insegna Ikea lato Pittarosso – Padova\, ore: 4:00\npark IperTosano area Comet – Legnago\, ore: 6:00\n\n\n        \n\n            Programma del viaggio\n             \nRitrovo dei signori partecipanti al punto di partenza rilasciato all’iscrizione e incontro con l’accompagnatore CAM. Transfer nel capoluogo piemontese\, città molto elegante\, per niente caotica\, Torino si fa scoprire camminando lungo i viali che hanno ispirato i boulevards parigini\, sotto i portici\, ai piedi di architetture maestose che ne fanno il salotto dell’aristocrazia in Italia. Pranzo libero. Nel primo pomeriggio ci spostiamo fino alla cima del monte Pirchiriano dove svetta austera la Sacra di S. Michele\, un’antichissima abbazia costruita sul finire del X secolo. La Sacra è un racconto lungo oltre mille anni\, fatto di miti\, segreti e architetture ai limiti dell’impossibile che ci accolgono al portale dello Zodiaco che si apre sullo scalone dei Morti\, pronto a narrare le leggende che hanno ispirato lo scrittore Umberto Eco nella stesura del suo best-seller ‘Il nome della Rosa’. Una visita guidata all’interno del complesso religioso ci consente di ammirarne l’imponenza e la bellezza e di scoprire il luogo di sepoltura dei membri della famiglia reale di Casa Savoia. Dall’alto dei torrioni si possono ammirare Torino\, lo skyline e la valle che accoglie la città. Al termine\, sistemazione in bus e partenza per il viaggio di rientro con arrivo in tarda serata. \n\n        \n\n            Appunti di Viaggio\n             \nDA NON DIMENTICARE. La carta d’identità\, lo smartphone per le foto e per contattare l’accompagnatore in caso di necessità\, la power-bank per non rimanere senza carica. \n  \nCOSA INDOSSARE. Si consiglia un vestiario confortevole\, con pantaloni tipo jeans o joggers. Meglio non indossare calzature nuove ed evitare le scarpe con la suola liscia\, le zeppe\, i tacchi. \n  \nSAPORI. Sconsigliabile lasciare la città senza aver assaggiato la bevanda di socializzazione dei torinesi\, composta da un mix di caffè\, cioccolato e crema di latte dolcificata con sciroppo. Il segreto per assaporare al meglio il ‘bicerin’ è non mescolarlo\, lasciando che le sue componenti si fondano direttamente sul palato. In alternativa\, non c’è che l’imbarazzo della scelta tra i prodotti della caffetteria torinese che hanno invaso il mondo. Quali sono? L’espresso\, il Martini e il cioccolatino gianduja. \n\n        \n \n\n\n            Cosa è compreso nella quota\n             \nBus\, ingresso e visita guidata alla Sacra di S. Michele\, servizio radioguide con auricolari\, assistenza accompagnatore CAM. \n\n        \n\n            Cosa non è compreso nella quota\n             \nPasti\, ingressi oltre a quelli previsti dal programma e quanto non indicato alla voce ‘la quota comprende’. \n\n        \n\n            Supplementi facoltativi\n             \nNessuno. \n\n        \n\n            Modalità di iscrizione al viaggio\n             \nRilascio nomi e cognomi partecipanti e punto di partenza prescelto. Non è richiesto acconto. \n\n        \n\n            Modalità di pagamento del viaggio\n             \nLa quota di partecipazione può essere corrisposta entro la data indicata attraverso il sito camviaggi.com\, con carta di credito a distanza (CNP)\, con bonifico bancario Iban: IT43Y0890462562032015008364 intestato a ‘CAM s.r.l.’\, con versamento in c|c postale 001014519068 intestato a ‘CAM s.r.l.’. In alternativa\, con carta di credito\, bancomat\, a|b o contante c|o le agenzie CAM. \n\n        \n\n            Regolamento di Viaggio\n             \nLa Direzione si riserva di apportare al programma eventuali modifiche per un più opportuno svolgimento del viaggio. L’iscrizione comporta la presa visione e l’accettazione di programma\, regolamento e norme vigenti. Organizzazione tecnica: C.A.M. VIAGGI di CAM s.r.l. Licenza 921 del 17.3.08 rilasciata dalla Provincia di Padova. Travel designer Anna Venturin (anna.venturin@camviaggi.com). \n\n        \n\n            Recapiti CAM per le prenotazioni\n             \nWeb camviaggi.com E-mail gruppi@camviaggi.com Sms|WhatsApp|Telegram 3480536012 Telefono 0429770993 \n\n        \n\n            Recapiti accompagnatore\n             \n+ 39 388 9539645(attivo 30′ prima del tour). \n\n        \n\n            Assicurazioni\n             \nR.C.T. Europ Assistance 4084313\, fondo di garanzia A|217.5482|1|2022|R.
URL:https://devel.camviaggi.com/event/torino/
ATTACH;FMTTYPE=image/jpeg:https://devel.camviaggi.com/wp-content/uploads/2024/05/Sacra-14.jpg
END:VEVENT
BEGIN:VEVENT
DTSTART;TZID=Europe/Rome:20240518T000000
DTEND;TZID=Europe/Rome:20240518T000000
DTSTAMP:20260424T054907
CREATED:20240517T150655Z
LAST-MODIFIED:20240517T150655Z
UID:10003244-1715990400-1715990400@devel.camviaggi.com
SUMMARY:MATERA
DESCRIPTION:Posti esauriti\n\n\n    MATERA\n\n\n     \nE ALBEROBELLO \nIN VOLO \n\n\n\n    \n        SCARICA IL PROGRAMMA DEL VIAGGIO\n    \n\n\n\n\n            \n        \n\n            Data/e del viaggio \n            Sabato 18 maggio 2024\n        \n\n            Quota di partecipazione\n             \n199€ \n\n        \n\n            Orari e punti di partenza\n             \n\npark Lidl v. Vittorio Veneto ang. v. C. Colombo – Monselice\, ore: 2.45\np.zza f.lli Cervi davanti hotel Cristallo – Rovigo\, ore: 3.15\npark Ikea sotto insegna Ikea lato Pittarosso – Padova\, ore: 2.15\naeroporto G. Marconi area partenze 1° piano – Bologna\, ore: 4.30\npark Abita Design casello Ferrara Nord – Ferrara\, ore: 3.45\n\n\n        \n\n            Programma del viaggio\n             \nRitrovo dei signori partecipanti in mattinata all’aeroporto Marconi di Bologna presso l’area partenze\, oppure agli altri punti rilasciati all’iscrizione per chi usufruisce del servizio navetta. Incontro con l’accompagnatore CAM\, disbrigo delle operazioni d’imbarco e partenza con il volo delle 6:15 per Bari. L’atterraggio è previsto alle 7:35. Ci trasferiamo in bus privato a Matera\, la meravigliosa città dei Sassi\, teatro del film ‘La passione di Cristo’. Una passeggiata guidata tocca piazza Vittorio Veneto\, sul cui lato orientale si apre il punto panoramico più famoso: il belvedere Luigi Guerricchio o dei Tre Archi\, con riferimento alle arcate che ne delimitano l’accesso. Sotto di noi ecco il Sasso Barisano\, con il suo succedersi di vicoli e scalinate. Sul lato opposto si staglia la cattedrale\, che raggiungiamo lungo un itinerario suggestivo che ci svela l’abitato da diverse angolazioni. Terza tra le città più antiche del mondo\, più di Gerusalemme o Varanasi\, Matera custodisce il nucleo originario che si è sviluppato da caverne naturali aperte nelle rocce. Ieri ‘vergogna nazionale’ in accordo a una storica definizione di Togliatti\, oggi Patrimonio Mondiale dell’Umanità\, i Sassi sorgono su uno dei versanti del canyon scavato dal torrente Gravina e offrono una realtà urbana di incredibile interesse artistico e socio-culturale\, dalla storia antichissima che ha attraversato in modo continuo i millenni dell’evoluzione. Il pranzo è libero prima di un breve trasferimento ad Alberobello tra le caratteristiche abitazioni con il tetto conico che rendono celebre il borgo in tutto il mondo. Costruiti con pietra calcarea a secco\, senza malta né altro mezzo di sostegno\, risaltano grazie alle loro mura imbiancate con latte di calce\, i trulli rappresentano un esempio di architettura popolare testimone di un’epoca in cui non è possibile costruire dimore fisse e gli abitanti sono costretti a erigere case provvisorie con il solo ausilio della pietra del luogo. Tempo libero per i souvenirs prima di dirigerci all’aeroporto Karol Wojtyła di Bari per la partenza del volo delle 20.30 che atterra a Venezia per le 21:50. Incontriamo infine la navetta per il rientro alle località di destinazione\, per chi ha richiesto il servizio.  \n\n        \n\n            Appunti di Viaggio\n             \nDA NON DIMENTICARE. La carta d’identità\, lo smartphone per le vostre foto e per contattare l’accompagnatore in caso di necessità\, la power-bank per non rimanere senza carica. \nCOSA PORTARE. È possibile portare a bordo del volo un solo collo (borsa\, zaino\, marsupio) di misure massime 40x25x20 cm. \nCOSA INDOSSARE. Abiti confortevoli\, scarpe comode senza tacchi o zeppe\, con suola antiscivolo per muoversi agevolmente e in sicurezza. \n\n        \n \n\n\n            Cosa è compreso nella quota\n             \nVolo\, transfers aeroporto di Bari – Matera – Alberobello – aeroporto di Bari\, servizio radioguide con auricolari\, guida\, assistenza accompagnatore CAM\, assicurazioni medico-bagaglio. \n\n        \n\n            Cosa non è compreso nella quota\n             \nTransfers per|da l’aeroporto di Bologna|Venezia\, assicurazione annullamento viaggio e quanto non indicato alla voce ‘la quota comprende‘. \n\n        \n\n            Supplementi facoltativi\n             \nAssicurazione annullamento per malattie e infortuni improvvisi: 20€ per persona. Navetta aeroporto di Bologna|Venezia – Padova|Monselice|Rovigo|Ferrara (servizio sotteso a un numero minimo di partecipanti): 39€ per persona a|r. \n\n        \n\n            Modalità di iscrizione al viaggio\n             \nL’iscrizione comporta il rilascio di nome\, cognome\, punto di partenza prescelto e il versamento contestuale di un acconto non rimborsabile di 100€. Se non rilasciato in precedenza\, richiediamo l’invio della foto di un documento d’identità. \n\n        \n\n            Modalità di pagamento del viaggio\n             \nLa quota di partecipazione può essere corrisposta entro la data indicata attraverso il sito camviaggi.com\, con carta di credito a distanza (CNP)\, con bonifico bancario Iban: IT43Y0890462562032015008364 intestato a ‘CAM s.r.l.’\, con versamento in c|c postale 001014519068 intestato a ‘CAM s.r.l.’. In alternativa\, con carta di credito\, bancomat\, a|b o contante c|o le agenzie CAM. \n\n        \n\n            Regolamento di Viaggio\n             \nLa Direzione si riserva di apportare al programma eventuali modifiche per un più opportuno svolgimento del viaggio. L’iscrizione comporta la presa visione e l’accettazione di programma\, regolamento e norme vigenti. Organizzazione tecnica: C.A.M. VIAGGI di CAM s.r.l. Licenza 921 del 17.3.08 rilasciata dalla Provincia di Padova. Travel designer Anna Venturin (anna.venturin@camviaggi.com). \n\n        \n\n            Recapiti CAM per le prenotazioni\n             \nWeb camviaggi.com E-mail gruppi@camviaggi.com Sms|WhatsApp|Telegram 3480536012 Telefono 0429770993 \n\n        \n\n            Recapiti accompagnatore\n             \n+39 345 7976644 \n(attivo 30′ prima del tour). \n\n        \n\n            Assicurazioni\n             \nMedico-bagaglio\, R.C.T. Europ Assistance 4084313\, fondo di garanzia A|217.5482|1|2022|R.
URL:https://devel.camviaggi.com/event/matera/
ATTACH;FMTTYPE=image/jpeg:https://devel.camviaggi.com/wp-content/uploads/2024/05/Matera-23.jpg
END:VEVENT
END:VCALENDAR